BEGIN:VCALENDAR
VERSION:2.0
PRODID:-//ChamberMaster//Event Calendar 2.0//EN
METHOD:PUBLISH
X-PUBLISHED-TTL:P3D
REFRESH-INTERVAL:P3D
CALSCALE:GREGORIAN
BEGIN:VEVENT
DTSTART:20220908T173000Z
DTEND:20220908T190000Z
X-MICROSOFT-CDO-ALLDAYEVENT:FALSE
SUMMARY:SCORE LA: Stepping Up with LinkedIn: How to Maximize Your Presence
DESCRIPTION:LinkedIn is by far the most important platform you'll use as a professional. Whether you're an executive\, business owner\, or coach\, you need a stand-out profile to build your professional reputation and cultivate success. Connections\, clients\, and credibility are all essential components of sustainable success\, and LinkedIn is one place you do not want to underperform. Using LinkedIn sets yourself up for success. Don't wait until you're in transition or looking for a new job\; update your profile and follow our guide to help you make the most of it.\n\nWhat can LinkedIn do for you?\n\n  Build your brand\n\n  Raise your online presence\n\n  Gain more clients\n\n  Create a worldwide network\n\n  Demonstrate your expertise\n\n  Network with professionals\n\n  Get your message out\n\nTopics Covered:\n\n  Learn how to use LinkedIn and how it's different from other social platforms\n\n  Fix the top 5 common mistakes people make when building their profile\n\n  Learn the power of video and how to make it work on LinkedIn\n\n  Create the most STAND OUT profile on LinkedIn for your target market\n\n  Understand how to generate new leads and be seen by your ideal client
X-ALT-DESC;FMTTYPE=text/html:<p style="box-sizing: border-box\; margin-top: 0px\; margin-bottom: 1.75em\; widows: 3\; orphans: 3\; color: rgb(20\, 20\, 20)\; font-family: Montserrat\, sans-serif\; font-size: 16px\;">LinkedIn is by far the most important platform you&#39\;ll use as a professional. Whether you&#39\;re an executive\, business owner\, or coach\, you need a stand-out profile to build your professional reputation and cultivate success. Connections\, clients\, and credibility are all essential components of sustainable success\, and LinkedIn is one place you do not want to underperform. Using LinkedIn sets yourself up for success. Don&#39\;t wait until you&#39\;re in transition or looking for a new job\; update your profile and follow our guide to help you make the most of it.</p>\n\n<p style="box-sizing: border-box\; margin-top: 0px\; margin-bottom: 1.75em\; widows: 3\; orphans: 3\; color: rgb(20\, 20\, 20)\; font-family: Montserrat\, sans-serif\; font-size: 16px\;">What can LinkedIn do for you?<br style="box-sizing: border-box\;" />\n&bull\; Build your brand<br style="box-sizing: border-box\;" />\n&bull\; Raise your online presence<br style="box-sizing: border-box\;" />\n&bull\; Gain more clients<br style="box-sizing: border-box\;" />\n&bull\; Create a worldwide network<br style="box-sizing: border-box\;" />\n&bull\; Demonstrate your expertise<br style="box-sizing: border-box\;" />\n&bull\; Network with professionals<br style="box-sizing: border-box\;" />\n&bull\; Get your message out</p>\n\n<p style="box-sizing: border-box\; margin-top: 0px\; margin-bottom: 1.75em\; widows: 3\; orphans: 3\; color: rgb(20\, 20\, 20)\; font-family: Montserrat\, sans-serif\; font-size: 16px\;">Topics Covered:<br style="box-sizing: border-box\;" />\n&bull\; Learn how to use LinkedIn and how it&#39\;s different from other social platforms<br style="box-sizing: border-box\;" />\n&bull\; Fix the top 5 common mistakes people make when building their profile<br style="box-sizing: border-box\;" />\n&bull\; Learn the power of video and how to make it work on LinkedIn<br style="box-sizing: border-box\;" />\n&bull\; Create the most STAND OUT profile on LinkedIn for your target market<br style="box-sizing: border-box\;" />\n&bull\; Understand how to generate new leads and be seen by your ideal client</p>\n
LOCATION:Virtual\, Register now.
UID:e.2438.6092
SEQUENCE:3
DTSTAMP:20260420T085420Z
URL:https://business.hbchamber.net/events/details/score-la-stepping-up-with-linkedin-how-to-maximize-your-presence-6092
END:VEVENT

END:VCALENDAR
