BEGIN:VCALENDAR
VERSION:2.0
PRODID:-//ChamberMaster//Event Calendar 2.0//EN
METHOD:PUBLISH
X-PUBLISHED-TTL:P3D
REFRESH-INTERVAL:P3D
CALSCALE:GREGORIAN
BEGIN:VEVENT
DTSTART:20240326T203000Z
DTEND:20240326T220000Z
X-MICROSOFT-CDO-ALLDAYEVENT:FALSE
SUMMARY:SCORE LA: Optimizing Your Website for Sales
DESCRIPTION:Any real estate agent will tell you that it is better to own than rent. Your website is the only virtual real estate you can own\, compared to the rental properties of social media platforms. You don't have to know how to create web code to make your website a more profitable tool for your business.\n\n\n\nIn this easy-to-understand masterclass you will:\n\n\n\nLearn how and why to create your Targeted Message.\n\nUnderstand 10 website myths that are stalling your sales and how to bust them so you can make sales with your website.\n\nLearn the difference between the three things most business owners design their sites to do compared to the 5 things that visitors to your site really want.\n\nFind out what 50% of Americans don't know about websites and why it is a vital part of your website.\n\nGet access to a free online tool that will make your website incredible.\n\nYour next\, first steps to success.\n\nIn addition to the vital information your business needs in this class\, all attendees will receive a copy of the Yuloff Creative Marketing Solutions guide: Discover Ten Proven Steps You Can Take Right Now to Get Your Business Found Online.
X-ALT-DESC;FMTTYPE=text/html:<p style="box-sizing: border-box\; margin-top: 0px\; margin-bottom: 1.75em\; widows: 3\; orphans: 3\; color: rgb(20\, 20\, 20)\; font-family: Montserrat\, sans-serif\; font-size: 16px\;">Any real estate agent will tell you that it is better to own than rent. Your website is the only virtual real estate you can own\, compared to the rental properties of social media platforms. You don&rsquo\;t have to know how to create web code to make your website a more profitable tool for your business.<br />\n<br />\nIn this easy-to-understand masterclass you will:<br />\n<br />\nLearn how and why to create your Targeted Message.<br />\nUnderstand 10 website myths that are stalling your sales and how to bust them so you can make sales with your website.<br />\nLearn the difference between the three things most business owners design their sites to do compared to the 5 things that visitors to your site really want.<br />\nFind out what 50% of Americans don&rsquo\;t know about websites and why it is a vital part of your website.<br />\nGet access to a free online tool that will make your website incredible.<br />\nYour next\, first steps to success.<br />\nIn addition to the vital information your business needs in this class\, all attendees will receive a copy of the Yuloff Creative Marketing Solutions guide: Discover Ten Proven Steps You Can Take Right Now to Get Your Business Found Online.</p>\n
LOCATION:Virtual\, Register now.
UID:e.2438.9413
SEQUENCE:3
DTSTAMP:20260419T145518Z
URL:https://business.hbchamber.net/events/details/score-la-optimizing-your-website-for-sales-9413
END:VEVENT

END:VCALENDAR
