BEGIN:VCALENDAR
VERSION:2.0
PRODID:-//ChamberMaster//Event Calendar 2.0//EN
METHOD:PUBLISH
X-PUBLISHED-TTL:P3D
REFRESH-INTERVAL:P3D
CALSCALE:GREGORIAN
BEGIN:VEVENT
DTSTART:20240327T173000Z
DTEND:20240327T190000Z
X-MICROSOFT-CDO-ALLDAYEVENT:FALSE
SUMMARY:SCORE LA: Multiply Your Business Income With the Launch Pyramid
DESCRIPTION:If You Are Ambitious and Want to Grow Your Business\, You Cannot Afford to Miss This. Learn the 5 Guerrilla Marketing Strategies That Are MULTIPLYING Income for Hundreds of Businesses Like Yours!\n\n\n\nDid you ever wonder why some people seem to make money hand-over-fist while everyone else is struggling? If yes\, this is a "Must Attend" for business owners\, no matter what size or type of business you have. Join us for this info-packed FREE Online workshop that will give you the answers you need! Regardless of the size and type of business you have\, this might be one of the most important 90-minute online webinars you'll watch all year.\n\n\n\nIn it\, one of our resident business experts\, James I. Bond\, will share the 5 tactics businesses are using RIGHT NOW that are helping them accelerate how fast they are able to bring on new customers and clients for their business. Subjects to be addressed include:\n\n\n\nCOMPETITIVE ADVANTAGE: The mistake most businesses make RIGHT FROM THE START\, that makes it harder to win clients than it needs to be\n\nCONVERSION FORMULA: The Buyer's Journey and the Buyer's "Voice-in-their-Head"... how understanding these two simple strategies can radically improve the conversion results of your website\, marketing materials\, even your talks\, trade show events\, and more\n\nTRAFFIC GENERATION: Includes a Traffic Generation Worksheet with dozens of conventional and guerrilla marketing strategies - often at little or no cost - to generate the right traffic to your website and your phone\n\nDRIP CAMPAIGN: For all the time\, effort and money you spend bringing prospects to your website\, why are you letting so many of them escape? What happens to everyone who doesn't buy? Establishing a contact program combined with a re-targeting campaign could MULTIPLY your revenues\, with simple automated processes\n\nVENDOR CHAIN: Here's a simple way to not just MULTIPLY your income\, but to create a steady stream of new clients\, often at absolutely NO cost to you. It's easier than most people realize.\n\nYou'll learn all this and more at this info-packed webinar!
X-ALT-DESC;FMTTYPE=text/html:<p style="box-sizing: border-box\; margin-top: 0px\; margin-bottom: 1.75em\; widows: 3\; orphans: 3\; color: rgb(20\, 20\, 20)\; font-family: Montserrat\, sans-serif\; font-size: 16px\;">If You Are Ambitious and Want to Grow Your Business\, You Cannot Afford to Miss This. Learn the 5 Guerrilla Marketing Strategies That Are MULTIPLYING Income for Hundreds of Businesses Like Yours!<br />\n<br />\nDid you ever wonder why some people seem to make money hand-over-fist while everyone else is struggling? If yes\, this is a &quot\;Must Attend&quot\; for business owners\, no matter what size or type of business you have. Join us for this info-packed FREE Online workshop that will give you the answers you need! Regardless of the size and type of business you have\, this might be one of the most important 90-minute online webinars you&#39\;ll watch all year.<br />\n<br />\nIn it\, one of our resident business experts\, James I. Bond\, will share the 5 tactics businesses are using RIGHT NOW that are helping them accelerate how fast they are able to bring on new customers and clients for their business. Subjects to be addressed include:<br />\n<br />\nCOMPETITIVE ADVANTAGE: The mistake most businesses make RIGHT FROM THE START\, that makes it harder to win clients than it needs to be<br />\nCONVERSION FORMULA: The Buyer&#39\;s Journey and the Buyer&#39\;s &quot\;Voice-in-their-Head&quot\;... how understanding these two simple strategies can radically improve the conversion results of your website\, marketing materials\, even your talks\, trade show events\, and more<br />\nTRAFFIC GENERATION: Includes a Traffic Generation Worksheet with dozens of conventional and guerrilla marketing strategies - often at little or no cost - to generate the right traffic to your website and your phone<br />\nDRIP CAMPAIGN: For all the time\, effort and money you spend bringing prospects to your website\, why are you letting so many of them escape? What happens to everyone who doesn&#39\;t buy? Establishing a contact program combined with a re-targeting campaign could MULTIPLY your revenues\, with simple automated processes<br />\nVENDOR CHAIN: Here&#39\;s a simple way to not just MULTIPLY your income\, but to create a steady stream of new clients\, often at absolutely NO cost to you. It&#39\;s easier than most people realize.<br />\nYou&#39\;ll learn all this and more at this info-packed webinar!</p>\n\n<p style="box-sizing: border-box\; margin-top: 0px\; margin-bottom: 1.75em\; widows: 3\; orphans: 3\; color: rgb(20\, 20\, 20)\; font-family: Montserrat\, sans-serif\; font-size: 16px\;">&nbsp\;</p>\n
LOCATION:Virtual\, Register now.
UID:e.2438.9412
SEQUENCE:3
DTSTAMP:20260419T165011Z
URL:https://business.hbchamber.net/events/details/score-la-multiply-your-business-income-with-the-launch-pyramid-9412
END:VEVENT

END:VCALENDAR
