BEGIN:VCALENDAR
VERSION:2.0
PRODID:-//ChamberMaster//Event Calendar 2.0//EN
METHOD:PUBLISH
X-PUBLISHED-TTL:P3D
REFRESH-INTERVAL:P3D
CALSCALE:GREGORIAN
BEGIN:VEVENT
DTSTART:20240222T183000Z
DTEND:20240222T200000Z
X-MICROSOFT-CDO-ALLDAYEVENT:FALSE
SUMMARY:SCORE LA:Mastering Focus: Cultivating Mindful Accountability for Business Success
DESCRIPTION:Join us for this webinar where you will learn how mindful accountability will help you reach your goals. Ali Shiller will take you through the process\, including:\n\n\n\nUnderstanding How Focus Works: We'll dissect the concept of focus so you can navigate it effortlessly\, identifying what comes naturally and where you may encounter challenges.\n\nAddressing the Challenges: To make focus a habit\, it's crucial to understand and overcome your personal challenges. We'll share effective tools and best practices tailored to your needs.\n\nCultivating Mindful Accountability to Implement What You've Learned: Walk away with a concrete action plan and the tools needed to put your newfound focus into practice.
X-ALT-DESC;FMTTYPE=text/html:<p style="box-sizing: border-box\; margin-top: 0px\; margin-bottom: 1.75em\; widows: 3\; orphans: 3\; color: rgb(20\, 20\, 20)\; font-family: Montserrat\, sans-serif\; font-size: 16px\;">Join us for this webinar where you will learn how mindful accountability will help you reach your goals. Ali Shiller will take you through the process\, including:<br />\n<br />\nUnderstanding How Focus Works: We&#39\;ll dissect the concept of focus so you can navigate it effortlessly\, identifying what comes naturally and where you may encounter challenges.<br />\nAddressing the Challenges: To make focus a habit\, it&#39\;s crucial to understand and overcome your personal challenges. We&#39\;ll share effective tools and best practices tailored to your needs.<br />\nCultivating Mindful Accountability to Implement What You&#39\;ve Learned: Walk away with a concrete action plan and the tools needed to put your newfound focus into practice.</p>\n
LOCATION:Virtual\, REGISTER HERE
UID:e.2438.9335
SEQUENCE:3
DTSTAMP:20260419T131926Z
URL:https://business.hbchamber.net/events/details/score-la-mastering-focus-cultivating-mindful-accountability-for-business-success-9335
END:VEVENT

END:VCALENDAR
