BEGIN:VCALENDAR
VERSION:2.0
PRODID:-//ChamberMaster//Event Calendar 2.0//EN
METHOD:PUBLISH
X-PUBLISHED-TTL:P3D
REFRESH-INTERVAL:P3D
CALSCALE:GREGORIAN
BEGIN:VEVENT
DTSTART:20220623T170000Z
DTEND:20220623T190000Z
X-MICROSOFT-CDO-ALLDAYEVENT:FALSE
SUMMARY:SCORE LA: Marketing 101: The Essentials
DESCRIPTION:Marketing 101: The Essentials will give you a BASIC overview of marketing and marketing practices. This interactive workshop will help you focus on your business and your customer base\, resulting in a more comprehensive understanding of your business and how to market it.\n\nWhat You'll Learn:\n\n  The Basics: positioning your product\, defining and reaching your customer\n\n  Elements of a marketing plan\n\n  What media makes sense for your business\, both traditional and emerging\n\n  Forms to help organize the process\n\n  Help creating a customized media plan for YOUR business
X-ALT-DESC;FMTTYPE=text/html:<p style="box-sizing: border-box\; margin-top: 0px\; margin-bottom: 1.75em\; widows: 3\; orphans: 3\; color: rgb(20\, 20\, 20)\; font-family: Montserrat\, sans-serif\; font-size: 16px\;">Marketing 101: The Essentials will give you a BASIC overview of marketing and marketing practices. This interactive workshop will help you focus on your business and your customer base\, resulting in a more comprehensive understanding of your business and how to market it.</p>\n\n<p style="box-sizing: border-box\; margin-top: 0px\; margin-bottom: 1.75em\; widows: 3\; orphans: 3\; color: rgb(20\, 20\, 20)\; font-family: Montserrat\, sans-serif\; font-size: 16px\;">What You&rsquo\;ll Learn:<br style="box-sizing: border-box\;" />\n&bull\; The Basics: positioning your product\, defining and reaching your customer<br style="box-sizing: border-box\;" />\n&bull\; Elements of a marketing plan<br style="box-sizing: border-box\;" />\n&bull\; What media makes sense for your business\, both traditional and emerging<br style="box-sizing: border-box\;" />\n&bull\; Forms to help organize the process<br style="box-sizing: border-box\;" />\n&bull\; Help creating a customized media plan for YOUR business</p>\n
LOCATION:Virtual\, Register now.
UID:e.2438.5630
SEQUENCE:3
DTSTAMP:20260421T073426Z
URL:https://business.hbchamber.net/events/details/score-la-marketing-101-the-essentials-5630
END:VEVENT

END:VCALENDAR
