BEGIN:VCALENDAR
VERSION:2.0
PRODID:-//ChamberMaster//Event Calendar 2.0//EN
METHOD:PUBLISH
X-PUBLISHED-TTL:P3D
REFRESH-INTERVAL:P3D
CALSCALE:GREGORIAN
BEGIN:VEVENT
DTSTART:20220210T180000Z
DTEND:20220210T193000Z
X-MICROSOFT-CDO-ALLDAYEVENT:FALSE
SUMMARY:SCORE LA: Ins and Outs of Obtaining Small Business Loans
DESCRIPTION:During this 90-minute seminar\, you will learn how to obtain small business financing\, and gain further understanding on how to become a good candidate for a small business loan. This presentation will discuss the importance of your personal credit score\, how it impacts your eligibility\, and how to dispute inaccurate information on your credit file.\n\nThis seminar will review the Small Business Administration eligibility and the requirements for applying for an SBA loan. You will gain an understanding of the general underwriting and the basic qualifications that a bank reviews for loans (5 Cs of Credit).\n\nYou will learn:\n\n  What kind of documentation you will need to apply for a loan\n\n  SBA Financing terms\, interest rates and how to apply\n\n  Understanding the importance of your personal credit\n\n  Understanding the dispute process\n\n  What encompasses your credit score\n\nThis webinar will include a panel discussion where you can ask specific questions of the presenters.
X-ALT-DESC;FMTTYPE=text/html:<p style="box-sizing: border-box\; margin-top: 0px\; margin-bottom: 1.75em\; widows: 3\; orphans: 3\; color: rgb(20\, 20\, 20)\; font-family: Montserrat\, sans-serif\; font-size: 16px\;">During this 90-minute seminar\, you will learn how to obtain small business financing\, and gain further understanding on how to become a good candidate for a small business loan. This presentation will discuss the importance of your personal credit score\, how it impacts your eligibility\, and how to dispute inaccurate information on your credit file.</p>\n\n<p style="box-sizing: border-box\; margin-top: 0px\; margin-bottom: 1.75em\; widows: 3\; orphans: 3\; color: rgb(20\, 20\, 20)\; font-family: Montserrat\, sans-serif\; font-size: 16px\;">This seminar will review the Small Business Administration eligibility and the requirements for applying for an SBA loan. You will gain an understanding of the general underwriting and the basic qualifications that a bank reviews for loans (5 Cs of Credit).</p>\n\n<p style="box-sizing: border-box\; margin-top: 0px\; margin-bottom: 1.75em\; widows: 3\; orphans: 3\; color: rgb(20\, 20\, 20)\; font-family: Montserrat\, sans-serif\; font-size: 16px\;">You will learn:<br style="box-sizing: border-box\;" />\n&bull\; What kind of documentation you will need to apply for a loan<br style="box-sizing: border-box\;" />\n&bull\; SBA Financing terms\, interest rates and how to apply<br style="box-sizing: border-box\;" />\n&bull\; Understanding the importance of your personal credit<br style="box-sizing: border-box\;" />\n&bull\; Understanding the dispute process<br style="box-sizing: border-box\;" />\n&bull\; What encompasses your credit score</p>\n\n<p style="box-sizing: border-box\; margin-top: 0px\; margin-bottom: 1.75em\; widows: 3\; orphans: 3\; color: rgb(20\, 20\, 20)\; font-family: Montserrat\, sans-serif\; font-size: 16px\;">This webinar will include a panel discussion where you can ask specific questions of the presenters.</p>\n
LOCATION:Virtual\, Register now.
UID:e.2438.5154
SEQUENCE:3
DTSTAMP:20260421T134547Z
URL:https://business.hbchamber.net/events/details/score-la-ins-and-outs-of-obtaining-small-business-loans-5154
END:VEVENT

END:VCALENDAR
