BEGIN:VCALENDAR
VERSION:2.0
PRODID:-//ChamberMaster//Event Calendar 2.0//EN
METHOD:PUBLISH
X-PUBLISHED-TTL:P3D
REFRESH-INTERVAL:P3D
CALSCALE:GREGORIAN
BEGIN:VEVENT
DTSTART:20240227T180000Z
DTEND:20240227T193000Z
X-MICROSOFT-CDO-ALLDAYEVENT:FALSE
SUMMARY:SCORE LA: Inexpensive Ways to Market Your Business
DESCRIPTION:Whether you are a new entrepreneur or have an on-going business\, marketing is key to gaining customers and bringing in sales. It is something every small business owner needs to know how to do effectively\, which makes this workshop highly relevant for all.\n\n\n\nInexpensive Ways to Market Your Business gives you 20 proven options successful to promote and market your business\, as well as bust some marketing myths that might be keeping you from success. You'll gain an understanding of the importance of branding and its role in defining your target audience(s) and hear in detail how to easily improve your marketing path.\n\n\n\nA Sampling of What You'll Learn:\n\n\n\nHow to get seen in the public and in the press without spending a penny\n\nThe marketing advantage 9 out of 10 Website designers have no IDEA how to implement for you\n\nHow to inexpensively use online ads to bring business to your front door\n\nHow to generate WAY more word-of-mouth advertising
X-ALT-DESC;FMTTYPE=text/html:<p style="box-sizing: border-box\; margin-top: 0px\; margin-bottom: 1.75em\; widows: 3\; orphans: 3\; color: rgb(20\, 20\, 20)\; font-family: Montserrat\, sans-serif\; font-size: 16px\;">Whether you are a new entrepreneur or have an on-going business\, marketing is key to gaining customers and bringing in sales. It is something every small business owner needs to know how to do effectively\, which makes this workshop highly relevant for all.<br />\n<br />\nInexpensive Ways to Market Your Business gives you 20 proven options successful to promote and market your business\, as well as bust some marketing myths that might be keeping you from success. You&rsquo\;ll gain an understanding of the importance of branding and its role in defining your target audience(s) and hear in detail how to easily improve your marketing path.<br />\n<br />\nA Sampling of What You&rsquo\;ll Learn:<br />\n<br />\nHow to get seen in the public and in the press without spending a penny<br />\nThe marketing advantage 9 out of 10 Website designers have no IDEA how to implement for you<br />\nHow to inexpensively use online ads to bring business to your front door<br />\nHow to generate WAY more word-of-mouth advertising</p>\n
LOCATION:Virtual\, REGISTER HERE
UID:e.2438.9336
SEQUENCE:3
DTSTAMP:20260419T132338Z
URL:https://business.hbchamber.net/events/details/score-la-inexpensive-ways-to-market-your-business-9336
END:VEVENT

END:VCALENDAR
