BEGIN:VCALENDAR
VERSION:2.0
PRODID:-//ChamberMaster//Event Calendar 2.0//EN
METHOD:PUBLISH
X-PUBLISHED-TTL:P3D
REFRESH-INTERVAL:P3D
CALSCALE:GREGORIAN
BEGIN:VEVENT
DTSTART:20220211T230000Z
DTEND:20220212T010000Z
X-MICROSOFT-CDO-ALLDAYEVENT:FALSE
SUMMARY:SCORE LA: Inexpensive Ways to Market Your Business
DESCRIPTION:Whether you are a new entrepreneur or have an on-going business\, marketing is key to gaining customers and bringing in sales. It is something every small business owner needs to know how to do effectively\, which makes this workshop highly relevant for all.\n\nInexpensive Ways to Market Your Business gives you 20 proven options successful to promote and market your business\, as well as bust some marketing myths that might be keeping you from success. You'll gain an understanding of the importance of branding and its role in defining your target audience(s) and hear in detail how to easily improve your marketing path.\n\nA Sampling of What You'll Learn:\n\n  How to get seen in the public and in the press without spending a penny\n\n  The marketing advantage 9 out of 10 Website designers have no IDEA how to implement for you\n\n  How to inexpensively use online ads to bring business to your front door\n\n  How to generate WAY more word-of-mouth advertising
X-ALT-DESC;FMTTYPE=text/html:<p style="box-sizing: border-box\; margin-top: 0px\; margin-bottom: 1.75em\; widows: 3\; orphans: 3\; color: rgb(20\, 20\, 20)\; font-family: Montserrat\, sans-serif\; font-size: 16px\;">Whether you are a new entrepreneur or have an on-going business\, marketing is key to gaining customers and bringing in sales. It is something every small business owner needs to know how to do effectively\, which makes this workshop highly relevant for all.</p>\n\n<p style="box-sizing: border-box\; margin-top: 0px\; margin-bottom: 1.75em\; widows: 3\; orphans: 3\; color: rgb(20\, 20\, 20)\; font-family: Montserrat\, sans-serif\; font-size: 16px\;">Inexpensive Ways to Market Your Business gives you 20 proven options successful to promote and market your business\, as well as bust some marketing myths that might be keeping you from success. You&rsquo\;ll gain an understanding of the importance of branding and its role in defining your target audience(s) and hear in detail how to easily improve your marketing path.</p>\n\n<p style="box-sizing: border-box\; margin-top: 0px\; margin-bottom: 1.75em\; widows: 3\; orphans: 3\; color: rgb(20\, 20\, 20)\; font-family: Montserrat\, sans-serif\; font-size: 16px\;">A Sampling of What You&rsquo\;ll Learn:<br style="box-sizing: border-box\;" />\n&bull\; How to get seen in the public and in the press without spending a penny<br style="box-sizing: border-box\;" />\n&bull\; The marketing advantage 9 out of 10 Website designers have no IDEA how to implement for you<br style="box-sizing: border-box\;" />\n&bull\; How to inexpensively use online ads to bring business to your front door<br style="box-sizing: border-box\;" />\n&bull\; How to generate WAY more word-of-mouth advertising</p>\n
LOCATION:Virtual\, Register now.
UID:e.2438.5155
SEQUENCE:3
DTSTAMP:20260421T150750Z
URL:https://business.hbchamber.net/events/details/score-la-inexpensive-ways-to-market-your-business-5155
END:VEVENT

END:VCALENDAR
