BEGIN:VCALENDAR
VERSION:2.0
PRODID:-//ChamberMaster//Event Calendar 2.0//EN
METHOD:PUBLISH
X-PUBLISHED-TTL:P3D
REFRESH-INTERVAL:P3D
CALSCALE:GREGORIAN
BEGIN:VEVENT
DTSTART:20240328T173000Z
DTEND:20240328T190000Z
X-MICROSOFT-CDO-ALLDAYEVENT:FALSE
SUMMARY:SCORE LA: Improve Your Google Rank: Being Found and Chosen Online
DESCRIPTION:In this workshop you will learn our top tips to improve your Google ranking which will help your business show up higher in relevant search results. We will discuss the importance of optimizing your Google Business Profile (GBP) and adding profile\, social media\, web page and review Link Signals to boost your online visibility to attract more customers.\n\n\n\nWhat You Will Learn:\n\n\n\nHow to get your business to show up higher in local search results\n\nBest ways to optimize your Google Business Profile\n\nHow to leverage the power of Link Signals\n\nTips for generating more positive reviews for your business
X-ALT-DESC;FMTTYPE=text/html:<p style="box-sizing: border-box\; margin-top: 0px\; margin-bottom: 1.75em\; widows: 3\; orphans: 3\; color: rgb(20\, 20\, 20)\; font-family: Montserrat\, sans-serif\; font-size: 16px\;">In this workshop you will learn our top tips to improve your Google ranking which will help your business show up higher in relevant search results. We will discuss the importance of optimizing your Google Business Profile (GBP) and adding profile\, social media\, web page and review Link Signals to boost your online visibility to attract more customers.<br />\n<br />\nWhat You Will Learn:<br />\n<br />\nHow to get your business to show up higher in local search results<br />\nBest ways to optimize your Google Business Profile<br />\nHow to leverage the power of Link Signals<br />\nTips for generating more positive reviews for your business</p>\n
LOCATION:Virtual\, Register now.
UID:e.2438.9414
SEQUENCE:3
DTSTAMP:20260419T152504Z
URL:https://business.hbchamber.net/events/details/score-la-improve-your-google-rank-being-found-and-chosen-online-9414
END:VEVENT

END:VCALENDAR
