BEGIN:VCALENDAR
VERSION:2.0
PRODID:-//ChamberMaster//Event Calendar 2.0//EN
METHOD:PUBLISH
X-PUBLISHED-TTL:P3D
REFRESH-INTERVAL:P3D
CALSCALE:GREGORIAN
BEGIN:VEVENT
DTSTART:20220407T220000Z
DTEND:20220408T000000Z
X-MICROSOFT-CDO-ALLDAYEVENT:FALSE
SUMMARY:SCORE LA: How to Hire a Social Media Manager Plus Social Media Basics
DESCRIPTION:Most small business owners know that they MUST utilize Social Media as part of their successful marketing plan. The challenge is you were never taught the right way to use your social media platforms to build your business. Many business owners decide to hire someone to run their program for them\, but are not sure if they are getting the value from those dollars they invest. This class will help you decide if you need a Social Media manager and if you do\, how would you find the right person.\n\nWhat You Will Learn:\n\n  Discussion of how your audience is currently using Social Media and on-line marketing\n\n  What platforms you should be using\n\n  How to create your targeted messages\n\n  10 Things Your Social Media Manager must ABSOLUTELY do for you\n\n  7 Social Media Myths to Avoid
X-ALT-DESC;FMTTYPE=text/html:<p style="box-sizing: border-box\; margin-top: 0px\; margin-bottom: 1.75em\; widows: 3\; orphans: 3\; color: rgb(20\, 20\, 20)\; font-family: Montserrat\, sans-serif\; font-size: 16px\;">Most small business owners know that they MUST utilize Social Media as part of their successful marketing plan. The challenge is you were never taught the right way to use your social media platforms to build your business. Many business owners decide to hire someone to run their program for them\, but are not sure if they are getting the value from those dollars they invest. This class will help you decide if you need a Social Media manager and if you do\, how would you find the right person.</p>\n\n<p style="box-sizing: border-box\; margin-top: 0px\; margin-bottom: 1.75em\; widows: 3\; orphans: 3\; color: rgb(20\, 20\, 20)\; font-family: Montserrat\, sans-serif\; font-size: 16px\;">What You Will Learn:<br style="box-sizing: border-box\;" />\n&bull\; Discussion of how your audience is currently using Social Media and on-line marketing<br style="box-sizing: border-box\;" />\n&bull\; What platforms you should be using<br style="box-sizing: border-box\;" />\n&bull\; How to create your targeted messages<br style="box-sizing: border-box\;" />\n&bull\; 10 Things Your Social Media Manager must ABSOLUTELY do for you<br style="box-sizing: border-box\;" />\n&bull\; 7 Social Media Myths to Avoid</p>\n
LOCATION:Virtual\, Register now.
UID:e.2438.5332
SEQUENCE:3
DTSTAMP:20260421T092242Z
URL:https://business.hbchamber.net/events/details/score-la-how-to-hire-a-social-media-manager-plus-social-media-basics-5332
END:VEVENT

END:VCALENDAR
