BEGIN:VCALENDAR
VERSION:2.0
PRODID:-//ChamberMaster//Event Calendar 2.0//EN
METHOD:PUBLISH
X-PUBLISHED-TTL:P3D
REFRESH-INTERVAL:P3D
CALSCALE:GREGORIAN
BEGIN:VEVENT
DTSTART:20220314T180000Z
DTEND:20220314T190000Z
X-MICROSOFT-CDO-ALLDAYEVENT:FALSE
SUMMARY:SCORE LA: How to Get Back in Shape and Thrive in Your Business in 2022
DESCRIPTION:Gained Weight\, Tight Muscles\, Loss of Energy? How to Get Back in Shape and Thrive in Your Business in 2022\n\nAs business owners and entrepreneurs\, many of us are finding ourselves working online and sitting more over the last two years.\n\nHave you fallen victim to the COVID-19 weight gain? Are your hips and back feeling tight and irritated? Is your energy starting to get you down making you feel sluggish? Many of us are putting our health on the back-burner and you're not alone. The better you feel\, the more energy you have to put into your business and relationships and get greater results!\n\nIt's time to break out of the covid funk!\n\nIn this workshop\, you will learn how to get your health back and feel great again! You will discover:\n\n  How to strengthen your muscles and create intermittent movement\n\n  Ways to prevent weight gain and lose any weight gained due to the covid shutdown\n\n  How to increase and maintain your energy and stamina throughout the day\n\n  The importance of rest and recovery for optimal performance and health
X-ALT-DESC;FMTTYPE=text/html:<p style="box-sizing: border-box\; margin-top: 0px\; margin-bottom: 1.75em\; widows: 3\; orphans: 3\; color: rgb(20\, 20\, 20)\; font-family: Montserrat\, sans-serif\; font-size: 16px\;">Gained Weight\, Tight Muscles\, Loss of Energy? How to Get Back in Shape and Thrive in Your Business in 2022</p>\n\n<p style="box-sizing: border-box\; margin-top: 0px\; margin-bottom: 1.75em\; widows: 3\; orphans: 3\; color: rgb(20\, 20\, 20)\; font-family: Montserrat\, sans-serif\; font-size: 16px\;">As business owners and entrepreneurs\, many of us are finding ourselves working online and sitting more over the last two years.</p>\n\n<p style="box-sizing: border-box\; margin-top: 0px\; margin-bottom: 1.75em\; widows: 3\; orphans: 3\; color: rgb(20\, 20\, 20)\; font-family: Montserrat\, sans-serif\; font-size: 16px\;">Have you fallen victim to the COVID-19 weight gain? Are your hips and back feeling tight and irritated? Is your energy starting to get you down making you feel sluggish? Many of us are putting our health on the back-burner and you&rsquo\;re not alone. The better you feel\, the more energy you have to put into your business and relationships and get greater results!</p>\n\n<p style="box-sizing: border-box\; margin-top: 0px\; margin-bottom: 1.75em\; widows: 3\; orphans: 3\; color: rgb(20\, 20\, 20)\; font-family: Montserrat\, sans-serif\; font-size: 16px\;">It&rsquo\;s time to break out of the covid funk!</p>\n\n<p style="box-sizing: border-box\; margin-top: 0px\; margin-bottom: 1.75em\; widows: 3\; orphans: 3\; color: rgb(20\, 20\, 20)\; font-family: Montserrat\, sans-serif\; font-size: 16px\;">In this workshop\, you will learn how to get your health back and feel great again! You will discover:</p>\n\n<p style="box-sizing: border-box\; margin-top: 0px\; margin-bottom: 1.75em\; widows: 3\; orphans: 3\; color: rgb(20\, 20\, 20)\; font-family: Montserrat\, sans-serif\; font-size: 16px\;">&bull\; How to strengthen your muscles and create intermittent movement<br style="box-sizing: border-box\;" />\n&bull\; Ways to prevent weight gain and lose any weight gained due to the covid shutdown<br style="box-sizing: border-box\;" />\n&bull\; How to increase and maintain your energy and stamina throughout the day<br style="box-sizing: border-box\;" />\n&bull\; The importance of rest and recovery for optimal performance and health</p>\n
LOCATION:Virtual\, Register now.
UID:e.2438.5283
SEQUENCE:3
DTSTAMP:20260421T105936Z
URL:https://business.hbchamber.net/events/details/score-la-how-to-get-back-in-shape-and-thrive-in-your-business-in-2022-5283
END:VEVENT

END:VCALENDAR
