BEGIN:VCALENDAR
VERSION:2.0
PRODID:-//ChamberMaster//Event Calendar 2.0//EN
METHOD:PUBLISH
X-PUBLISHED-TTL:P3D
REFRESH-INTERVAL:P3D
CALSCALE:GREGORIAN
BEGIN:VEVENT
DTSTART:20220217T180000Z
DTEND:20220217T193000Z
X-MICROSOFT-CDO-ALLDAYEVENT:FALSE
SUMMARY:SCORE LA: Facebook Marketing Essentials for Business
DESCRIPTION:A discussion of the essentials of marketing your business on Facebook.\n\nTopics include:\n\n  Facebook Statistics-Who\, What\, Where and When\n\n  Facebook Stories vs Page Posts\n\n  Effectively Using Facebook Live\n\n  Facebook Ads Basics\n\n  Facebook Ads vs Google Ads-When to use one over the other\n\n  Learn how to create a content calendar to lessen the overwhelm and build engagement (You will receive a content calendar template)\n\n  How to create social media graphics like a Rockstar\n\n  Publishing tools to make your job easier
X-ALT-DESC;FMTTYPE=text/html:<p style="box-sizing: border-box\; margin-top: 0px\; margin-bottom: 1.75em\; widows: 3\; orphans: 3\; color: rgb(20\, 20\, 20)\; font-family: Montserrat\, sans-serif\; font-size: 16px\;">A discussion of the essentials of marketing your business on Facebook.</p>\n\n<p style="box-sizing: border-box\; margin-top: 0px\; margin-bottom: 1.75em\; widows: 3\; orphans: 3\; color: rgb(20\, 20\, 20)\; font-family: Montserrat\, sans-serif\; font-size: 16px\;">Topics include:<br style="box-sizing: border-box\;" />\n&bull\; Facebook Statistics-Who\, What\, Where and When<br style="box-sizing: border-box\;" />\n&bull\; Facebook Stories vs Page Posts<br style="box-sizing: border-box\;" />\n&bull\; Effectively Using Facebook Live<br style="box-sizing: border-box\;" />\n&bull\; Facebook Ads Basics<br style="box-sizing: border-box\;" />\n&bull\; Facebook Ads vs Google Ads-When to use one over the other<br style="box-sizing: border-box\;" />\n&bull\; Learn how to create a content calendar to lessen the overwhelm and build engagement (You will receive a content calendar template)<br style="box-sizing: border-box\;" />\n&bull\; How to create social media graphics like a Rockstar<br style="box-sizing: border-box\;" />\n&bull\; Publishing tools to make your job easier</p>\n
LOCATION:Virtual\, Register now.
UID:e.2438.5157
SEQUENCE:3
DTSTAMP:20260421T134138Z
URL:https://business.hbchamber.net/events/details/score-la-facebook-marketing-essentials-for-business-5157
END:VEVENT

END:VCALENDAR
