BEGIN:VCALENDAR
VERSION:2.0
PRODID:-//ChamberMaster//Event Calendar 2.0//EN
METHOD:PUBLISH
X-PUBLISHED-TTL:P3D
REFRESH-INTERVAL:P3D
CALSCALE:GREGORIAN
BEGIN:VEVENT
DTSTART:20220322T170000Z
DTEND:20220322T190000Z
X-MICROSOFT-CDO-ALLDAYEVENT:FALSE
SUMMARY:SCORE LA: Digital Marketing Metrics: What\, Where and Why to Measure for Success
DESCRIPTION:Just like our accountants measure our financial success\, we must also measure our marketing success. Are your efforts working? Are people visiting your site\, checking out and engaging with your social media? Most importantly\, are they converting?\n\nIf you don't measure\, you won't know what is working and what you may need to adjust for success. This class will show you the digital analytics for your website\, social media\, e-mail metrics and how to track on a monthly basis.\n\nThe class will include a spreadsheet template download for monthly tracking.
X-ALT-DESC;FMTTYPE=text/html:<p style="box-sizing: border-box\; margin-top: 0px\; margin-bottom: 1.75em\; widows: 3\; orphans: 3\; color: rgb(20\, 20\, 20)\; font-family: Montserrat\, sans-serif\; font-size: 16px\;">Just like our accountants measure our financial success\, we must also measure our marketing success. Are your efforts working? Are people visiting your site\, checking out and engaging with your social media? Most importantly\, are they converting?</p>\n\n<p style="box-sizing: border-box\; margin-top: 0px\; margin-bottom: 1.75em\; widows: 3\; orphans: 3\; color: rgb(20\, 20\, 20)\; font-family: Montserrat\, sans-serif\; font-size: 16px\;">If you don&#39\;t measure\, you won&#39\;t know what is working and what you may need to adjust for success. This class will show you the digital analytics for your website\, social media\, e-mail metrics and how to track on a monthly basis.</p>\n\n<p style="box-sizing: border-box\; margin-top: 0px\; margin-bottom: 1.75em\; widows: 3\; orphans: 3\; color: rgb(20\, 20\, 20)\; font-family: Montserrat\, sans-serif\; font-size: 16px\;">The class will include a spreadsheet template download for monthly tracking.</p>\n
LOCATION:Virtual\, Register now.
UID:e.2438.5329
SEQUENCE:3
DTSTAMP:20260421T110143Z
URL:https://business.hbchamber.net/events/details/score-la-digital-marketing-metrics-what-where-and-why-to-measure-for-success-5329
END:VEVENT

END:VCALENDAR
