BEGIN:VCALENDAR
VERSION:2.0
PRODID:-//ChamberMaster//Event Calendar 2.0//EN
METHOD:PUBLISH
X-PUBLISHED-TTL:P3D
REFRESH-INTERVAL:P3D
CALSCALE:GREGORIAN
BEGIN:VEVENT
DTSTART:20240508T193000Z
DTEND:20240508T210000Z
X-MICROSOFT-CDO-ALLDAYEVENT:FALSE
SUMMARY:SCORE LA: Artificial Intelligence for Your Small Business
DESCRIPTION:Artificial Intelligence for Your Small Business: It's not all Terminator\, Doom & Gloom and Job Elimination\n\n\n\nWe've all wished for a powerful assistant to handle some of our business tasks. Artificial intelligence is becoming that tool. AI technology is becoming so advanced that it can handle both mundane and complex tasks\, like understanding your customer behavior\, blog assistance and creating social media posts. \n\n\n\nArtificial Intelligence tools are already being leveraged by millions of users to tackle such tasks as getting blog ideas and creating business documents. Most users are reporting a reduction in effort while achieving quality outputs. However\, using AI successfully requires strategy and a good understanding of the AI tool's applications\, challenges and best practices.\n\n\n\nSome of these tools can be easy to use\, but like any new tool require some orientation and explanation.\n\n\n\nIn this webinar\, you'll gain insight into how you can begin to use AI in your business\; taking repetitive\, labor-intensive and data-driven tasks off your plate. Get an explanation of some of these tools to see how your small business can take advantage of these tools.\n\n\n\nJust one side note: whether or not you ACTIVELY decide to use AI\, it is already affecting you. When you're typing in Word or social media or a text\, does your device try and complete your phrases? Guess what! That's AI.
X-ALT-DESC;FMTTYPE=text/html:<p style="box-sizing: border-box\; margin-top: 0px\; margin-bottom: 1.75em\; widows: 3\; orphans: 3\; color: rgb(20\, 20\, 20)\; font-family: Montserrat\, sans-serif\; font-size: 16px\;">Artificial Intelligence for Your Small Business: It&rsquo\;s not all Terminator\, Doom &amp\; Gloom and Job Elimination<br />\n<br />\nWe&rsquo\;ve all wished for a powerful assistant to handle some of our business tasks. Artificial intelligence is becoming that tool. AI technology is becoming so advanced that it can handle both mundane and complex tasks\, like understanding your customer behavior\, blog assistance and creating social media posts.&nbsp\;<br />\n<br />\nArtificial Intelligence tools are already being leveraged by millions of users to tackle such tasks as getting blog ideas and creating business documents. Most users are reporting a reduction in effort while achieving quality outputs. However\, using AI successfully requires strategy and a good understanding of the AI tool&#39\;s applications\, challenges and best practices.<br />\n<br />\nSome of these tools can be easy to use\, but like any new tool require some orientation and explanation.<br />\n<br />\nIn this webinar\, you&rsquo\;ll gain insight into how you can begin to use AI in your business\; taking repetitive\, labor-intensive and data-driven tasks off your plate. Get an explanation of some of these tools to see how your small business can take advantage of these tools.<br />\n<br />\nJust one side note: whether or not you ACTIVELY decide to use AI\, it is already affecting you. When you&rsquo\;re typing in Word or social media or a text\, does your device try and complete your phrases? Guess what! That&rsquo\;s AI.</p>\n
LOCATION:Virtual\, Register now.
UID:e.2438.9531
SEQUENCE:3
DTSTAMP:20260421T123341Z
URL:https://business.hbchamber.net/events/details/score-la-artificial-intelligence-for-your-small-business-9531
END:VEVENT

END:VCALENDAR
