BEGIN:VCALENDAR
VERSION:2.0
PRODID:-//ChamberMaster//Event Calendar 2.0//EN
METHOD:PUBLISH
X-PUBLISHED-TTL:P3D
REFRESH-INTERVAL:P3D
CALSCALE:GREGORIAN
BEGIN:VEVENT
DTSTART:20240403T203000Z
DTEND:20240403T220000Z
X-MICROSOFT-CDO-ALLDAYEVENT:FALSE
SUMMARY:SCORE LA: 10 Marketing Sins that Will Kill Your Business
DESCRIPTION:In the world of small business\, there are certain unalienable rights\, which are really unalienable responsibilities\, which is to say   we have to do them in order for our marketing to be successful.\n\n\n\nIn this webinar you will learn the mistakes that cause 20% of new businesses to fail during the first two years of being open\, 45% during the first five years\, and 65% during the first 10 years according to the U.S. Bureau of Labor Statistics.\n\n\n\nSome are very simple. Some will take some effort\, but combined they will give you building blocks to make all of your other marketing activities much stronger.\n\n\n\nLet's face it   marketing and all of the activities that fall under that umbrella\, from sales to strategy\, advertising to analytics is easy to define but is much harder to perform well. This webinar will help you take those first 10 steps.
X-ALT-DESC;FMTTYPE=text/html:<p style="box-sizing: border-box\; margin-top: 0px\; margin-bottom: 1.75em\; widows: 3\; orphans: 3\; color: rgb(20\, 20\, 20)\; font-family: Montserrat\, sans-serif\; font-size: 16px\;">In the world of small business\, there are certain unalienable rights\, which are really unalienable responsibilities\, which is to say &ndash\; we have to do them in order for our marketing to be successful.<br />\n<br />\nIn this webinar you will learn the mistakes that cause 20% of new businesses to fail during the first two years of being open\, 45% during the first five years\, and 65% during the first 10 years according to the U.S. Bureau of Labor Statistics.<br />\n<br />\nSome are very simple. Some will take some effort\, but combined they will give you building blocks to make all of your other marketing activities much stronger.<br />\n<br />\nLet&rsquo\;s face it &ndash\; marketing and all of the activities that fall under that umbrella\, from sales to strategy\, advertising to analytics is easy to define but is much harder to perform well. This webinar will help you take those first 10 steps.</p>\n
LOCATION:Virtual\, Register now.
UID:e.2438.9472
SEQUENCE:3
DTSTAMP:20260421T135819Z
URL:https://business.hbchamber.net/events/details/score-la-10-marketing-sins-that-will-kill-your-business-9472
END:VEVENT

END:VCALENDAR
