BEGIN:VCALENDAR
VERSION:2.0
PRODID:-//ChamberMaster//Event Calendar 2.0//EN
METHOD:PUBLISH
X-PUBLISHED-TTL:P3D
REFRESH-INTERVAL:P3D
CALSCALE:GREGORIAN
BEGIN:VEVENT
DTSTART:20240206T170000Z
DTEND:20240206T183000Z
X-MICROSOFT-CDO-ALLDAYEVENT:FALSE
SUMMARY:SBDC LA: What is the Best Legal Structure for my Company? What are the Tax Advantages?
DESCRIPTION:Many entrepreneurs do not fully understand the differences between a Sole Proprietorship\, LLC and S Corporation.  This causes many to form a corporation when they may be better operating as a sole prop. Additionally\, they are confused about the tax differences for each structure. They often choose a legal structure based on a perceived tax advantage that is incorrect.\n\n\n\nThis webinar provides an overview of the various tax structures. The required documentation for the original filing and annual filings. The requirement for accounting\, quarterly tax estimates and W2 salaries.\n\n\n\nThis webinar covers:\n\n\n\nDifference between a sole prop\, LLC and S Corporation\n\nTax differences between the legal structures\n\nDocuments required for filling including annual reports\n\nTax estimates and reasonable salary requirements
X-ALT-DESC;FMTTYPE=text/html:<div style="box-sizing: border-box\; margin: 0px\; padding: 0px\; border: 0px\; font-variant-numeric: inherit\; font-variant-east-asian: inherit\; font-stretch: inherit\; line-height: inherit\; font-family: &quot\;Proxima N W01 Light&quot\;\, Helvetica\, Arial\, sans-serif\; font-size: 18px\; vertical-align: baseline\; color: rgb(49\, 49\, 49)\;">\n<div style="box-sizing: border-box\; margin: 0px\; padding: 0px\; border: 0px\; font-style: inherit\; font-variant: inherit\; font-weight: inherit\; font-stretch: inherit\; line-height: inherit\; font-family: inherit\; vertical-align: baseline\;">\n<p style="box-sizing: border-box\; overflow-wrap: break-word\; margin: 0px 0px 10px\; padding: 0px\; border: 0px\; font-variant-numeric: inherit\; font-variant-east-asian: inherit\; font-stretch: inherit\; line-height: 1.7\; font-family: &quot\;Proxima N W01 Light&quot\;\, Helvetica\, Arial\, sans-serif\; font-size: 18px\; vertical-align: baseline\; color: rgb(49\, 49\, 49)\;">Many entrepreneurs do not fully understand the differences between a Sole Proprietorship\, LLC and S Corporation.&nbsp\; This causes many to form a corporation when they may be better operating as a sole prop. Additionally\, they are confused about the tax differences for each structure. They often choose a legal structure based on a perceived tax advantage that is incorrect.<br />\n<br />\nThis webinar provides an overview of the various tax structures. The required documentation for the original filing and annual filings. The requirement for accounting\, quarterly tax estimates and W2 salaries.<br />\n<br />\nThis webinar covers:<br />\n<br />\nDifference between a sole prop\, LLC and S Corporation<br />\nTax differences between the legal structures<br />\nDocuments required for filling including annual reports<br />\nTax estimates and reasonable salary requirements</p>\n</div>\n</div>\n
LOCATION:VIRTUAL - REGISTER HERE
UID:e.2438.9323
SEQUENCE:3
DTSTAMP:20260419T132446Z
URL:https://business.hbchamber.net/events/details/sbdc-la-what-is-the-best-legal-structure-for-my-company-what-are-the-tax-advantages-9323
END:VEVENT

END:VCALENDAR
