BEGIN:VCALENDAR
VERSION:2.0
PRODID:-//ChamberMaster//Event Calendar 2.0//EN
METHOD:PUBLISH
X-PUBLISHED-TTL:P3D
REFRESH-INTERVAL:P3D
CALSCALE:GREGORIAN
BEGIN:VEVENT
DTSTART:20240221T200000Z
DTEND:20240221T210000Z
X-MICROSOFT-CDO-ALLDAYEVENT:FALSE
SUMMARY:SBDC LA: Webinar – Writing Effective Content for Your Website
DESCRIPTION:Wondered about your website content and how it impacts search results?\n\n\n\nHow does content work?\n\n\n\nCome and learn tips on solving the mystery of content and writing effective content for your website.
X-ALT-DESC;FMTTYPE=text/html:<p style="box-sizing: border-box\; margin: 0px 0px 10px\; padding: 0px\; border: 0px\; font-variant-numeric: inherit\; font-variant-east-asian: inherit\; font-stretch: inherit\; line-height: 1.7\; font-family: &quot\;Proxima N W01 Light&quot\;\, Helvetica\, Arial\, sans-serif\; font-size: 18px\; vertical-align: baseline\; color: rgb(49\, 49\, 49)\;">Wondered about your website content and how it impacts search results?<br />\n<br />\nHow does content work?<br />\n<br />\nCome and learn tips on solving the mystery of content and writing effective content for your website.</p>\n
LOCATION:VIRTUAL - REGISTER HERE
UID:e.2438.9348
SEQUENCE:3
DTSTAMP:20260419T131411Z
URL:https://business.hbchamber.net/events/details/sbdc-la-webinar-writing-effective-content-for-your-website-9348
END:VEVENT

END:VCALENDAR
