BEGIN:VCALENDAR
VERSION:2.0
PRODID:-//ChamberMaster//Event Calendar 2.0//EN
METHOD:PUBLISH
X-PUBLISHED-TTL:P3D
REFRESH-INTERVAL:P3D
CALSCALE:GREGORIAN
BEGIN:VEVENT
DTSTART:20240206T220000Z
DTEND:20240206T233000Z
X-MICROSOFT-CDO-ALLDAYEVENT:FALSE
SUMMARY:SBDC LA: WEBINAR Writing a Winning Press Release
DESCRIPTION:You've got a hot new product or service that you would like your prospective customers to know about. Or maybe\, there has been a problem at your business that is attracting media attention. Whatever\, the circumstance\, knowing how to prepare a professional press release is a valuable skill for any business owner.\n\n\n\nIn this webinar\, we will examine what the media is looking for in a good press release. This a a hands-on workshop where participants will learn the parts of a press release and how to attract the attention of media decision makers. Participants will also discover how crafting media communication that can help to increase revenue and raise a company's profile.\n\n\n\nInstructor: Saida Pagan
X-ALT-DESC;FMTTYPE=text/html:You&rsquo\;ve got a hot new product or service that you would like your prospective customers to know about. Or maybe\, there has been a problem at your business that is attracting media attention. Whatever\, the circumstance\, knowing how to prepare a professional press release is a valuable skill for any business owner.<br />\n<br />\nIn this webinar\, we will examine what the media is looking for in a good press release. This a a hands-on workshop where participants will learn the parts of a press release and how to attract the attention of media decision makers. Participants will also discover how crafting media communication that can help to increase revenue and raise a company&rsquo\;s profile.<br />\n<br />\nInstructor: Saida Pagan
LOCATION:VIRTUAL - REGISTER HERE
UID:e.2438.9352
SEQUENCE:3
DTSTAMP:20260419T131405Z
URL:https://business.hbchamber.net/events/details/sbdc-la-webinar-writing-a-winning-press-release-9352
END:VEVENT

END:VCALENDAR
