BEGIN:VCALENDAR
VERSION:2.0
PRODID:-//ChamberMaster//Event Calendar 2.0//EN
METHOD:PUBLISH
X-PUBLISHED-TTL:P3D
REFRESH-INTERVAL:P3D
CALSCALE:GREGORIAN
BEGIN:VEVENT
DTSTART:20240215T200000Z
DTEND:20240215T210000Z
X-MICROSOFT-CDO-ALLDAYEVENT:FALSE
SUMMARY:SBDC LA: Webinar – WBE(Women Business Enterprise)/MBE(Minority Business Enterprise) Certifications
DESCRIPTION:For those interested in expanding their private sector revenues\, the WBE and MBE certifications will allow you to do business with major companies under their supplier diversity programs. A step by step guide on what to expect in completing the application\, as well as which documents will be required to submit.
X-ALT-DESC;FMTTYPE=text/html:For those interested in expanding their private sector revenues\, the WBE and MBE certifications will allow you to do business with major companies under their supplier diversity programs. A step by step guide on what to expect in completing the application\, as well as which documents will be required to submit.
LOCATION:VIRTUAL - REGISTER HERE
UID:e.2438.9350
SEQUENCE:3
DTSTAMP:20260419T132238Z
URL:https://business.hbchamber.net/events/details/sbdc-la-webinar-wbe-women-business-enterprise-mbe-minority-business-enterprise-certifications-9350
END:VEVENT

END:VCALENDAR
