BEGIN:VCALENDAR
VERSION:2.0
PRODID:-//ChamberMaster//Event Calendar 2.0//EN
METHOD:PUBLISH
X-PUBLISHED-TTL:P3D
REFRESH-INTERVAL:P3D
CALSCALE:GREGORIAN
BEGIN:VEVENT
DTSTART:20240207T203000Z
DTEND:20240207T213000Z
X-MICROSOFT-CDO-ALLDAYEVENT:FALSE
SUMMARY:SBDC LA: Webinar – Ways to Impact Your Sales and Increase Customer Engagement
DESCRIPTION:Have customers are you reaching them?\n\n\n\nWant and need customers?\n\n\n\nCome ready to learn tips and techniques to help increase engagement and attract potential new customers using social media and other tools.
X-ALT-DESC;FMTTYPE=text/html:Have customers&hellip\;are you reaching them?<br />\n<br />\nWant and need customers?<br />\n<br />\nCome ready to learn tips and techniques to help increase engagement and attract potential new customers using social media and other tools.
LOCATION:VIRTUAL - REGISTER HERE
UID:e.2438.9327
SEQUENCE:3
DTSTAMP:20260419T132129Z
URL:https://business.hbchamber.net/events/details/sbdc-la-webinar-ways-to-impact-your-sales-and-increase-customer-engagement-9327
END:VEVENT

END:VCALENDAR
