BEGIN:VCALENDAR
VERSION:2.0
PRODID:-//ChamberMaster//Event Calendar 2.0//EN
METHOD:PUBLISH
X-PUBLISHED-TTL:P3D
REFRESH-INTERVAL:P3D
CALSCALE:GREGORIAN
BEGIN:VEVENT
DTSTART:20220322T170000Z
DTEND:20220322T183000Z
X-MICROSOFT-CDO-ALLDAYEVENT:FALSE
SUMMARY:SBDC LA: WEBINAR SOCIAL MEDIA TRENDS FOR 2022
DESCRIPTION:Social Media is constantly changing and as a busy small business owner\, it is hard to keep up with Instagram Reels\, Tik Tok\, YouTube Shorts\, and now audio rooms. Should I podcast? Should I start a YouTube channel?\n\nNot to worry our own in-house\, Social media goddess\, Deborah Deras\, attended the Social Media Examiner conference and has updates for you about where you should spend your time to get a return on investment.
X-ALT-DESC;FMTTYPE=text/html:<p style="box-sizing: border-box\; margin: 0px 0px 10px\; padding: 0px\; border: 0px\; font-variant-numeric: inherit\; font-variant-east-asian: inherit\; font-stretch: inherit\; line-height: 1.7\; font-family: &quot\;Proxima N W01 Light&quot\;\, Helvetica\, Arial\, sans-serif\; font-size: 18px\; vertical-align: baseline\; color: rgb(49\, 49\, 49)\;">Social Media is constantly changing and as a busy small business owner\, it is hard to keep up with Instagram Reels\, Tik Tok\, YouTube Shorts\, and now audio rooms. Should I podcast? Should I start a YouTube channel?</p>\n\n<p style="box-sizing: border-box\; margin: 0px 0px 10px\; padding: 0px\; border: 0px\; font-variant-numeric: inherit\; font-variant-east-asian: inherit\; font-stretch: inherit\; line-height: 1.7\; font-family: &quot\;Proxima N W01 Light&quot\;\, Helvetica\, Arial\, sans-serif\; font-size: 18px\; vertical-align: baseline\; color: rgb(49\, 49\, 49)\;">Not to worry our own in-house\, Social media goddess\, Deborah Deras\, attended the Social Media Examiner conference and has updates for you about where you should spend your time to get a return on investment.</p>\n
LOCATION:VIRTUAL - REGISTER HERE
UID:e.2438.5321
SEQUENCE:3
DTSTAMP:20260421T105659Z
URL:https://business.hbchamber.net/events/details/sbdc-la-webinar-social-media-trends-for-2022-5321
END:VEVENT

END:VCALENDAR
