BEGIN:VCALENDAR
VERSION:2.0
PRODID:-//ChamberMaster//Event Calendar 2.0//EN
METHOD:PUBLISH
X-PUBLISHED-TTL:P3D
REFRESH-INTERVAL:P3D
CALSCALE:GREGORIAN
BEGIN:VEVENT
DTSTART:20220215T180000Z
DTEND:20220215T193000Z
X-MICROSOFT-CDO-ALLDAYEVENT:FALSE
SUMMARY:SBDC LA: WEBINAR Social Media Solutions: YouTube for Sales In Time of Covid 19
DESCRIPTION:Youtube is the second largest search engine after Google. When you learn to use it you can come in search on both Google and youtube without spending money on ADS. IF you are not using GOOGLE you are literally leaving money on the table.\n\nIn this interactive webinar/training you will:\n\n  Understanding Youtube as a Social Media Marketing platform and a search engine\n\n  What content should you put on YOUTUBE to come up in GOOGLE SEARCH\n\n  3 ways to easily optimize your Youtube\n\n  4 ways to monetize your YOUTUBe\n\n  3 easy ways to increase subscribers\n\n  How to use Youtube as a Marketing Strategy
X-ALT-DESC;FMTTYPE=text/html:<p style="box-sizing: border-box\; margin: 0px 0px 10px\; padding: 0px\; border: 0px\; font-variant-numeric: inherit\; font-variant-east-asian: inherit\; font-stretch: inherit\; line-height: 1.7\; font-family: &quot\;Proxima N W01 Light&quot\;\, Helvetica\, Arial\, sans-serif\; font-size: 18px\; vertical-align: baseline\; color: rgb(49\, 49\, 49)\;">Youtube is the second largest search engine after Google. When you learn to use it you can come in search on both Google and youtube without spending money on ADS. IF you are not using GOOGLE you are literally leaving money on the table.</p>\n\n<p style="box-sizing: border-box\; margin: 0px 0px 10px\; padding: 0px\; border: 0px\; font-variant-numeric: inherit\; font-variant-east-asian: inherit\; font-stretch: inherit\; line-height: 1.7\; font-family: &quot\;Proxima N W01 Light&quot\;\, Helvetica\, Arial\, sans-serif\; font-size: 18px\; vertical-align: baseline\; color: rgb(49\, 49\, 49)\;"><span style="box-sizing: border-box\; margin: 0px\; padding: 0px\; border: 0px\; font-style: inherit\; font-variant: inherit\; font-weight: inherit\; font-stretch: inherit\; line-height: inherit\; font-family: &quot\;Proxima N W01 Smbd&quot\;\; vertical-align: baseline\;">In this interactive webinar/training you will:</span><br style="box-sizing: border-box\;" />\n&bull\; Understanding Youtube as a Social Media Marketing platform and a search engine<br style="box-sizing: border-box\;" />\n&bull\; What content should you put on YOUTUBE to come up in GOOGLE SEARCH<br style="box-sizing: border-box\;" />\n&bull\; 3 ways to easily optimize your Youtube<br style="box-sizing: border-box\;" />\n&bull\; 4 ways to monetize your YOUTUBe<br style="box-sizing: border-box\;" />\n&bull\; 3 easy ways to increase subscribers<br style="box-sizing: border-box\;" />\n&bull\; How to use Youtube as a Marketing Strategy</p>\n
LOCATION:VIRTUAL - REGISTER HERE
UID:e.2438.5144
SEQUENCE:3
DTSTAMP:20260421T134546Z
URL:https://business.hbchamber.net/events/details/sbdc-la-webinar-social-media-solutions-youtube-for-sales-in-time-of-covid-19-5144
END:VEVENT

END:VCALENDAR
