BEGIN:VCALENDAR
VERSION:2.0
PRODID:-//ChamberMaster//Event Calendar 2.0//EN
METHOD:PUBLISH
X-PUBLISHED-TTL:P3D
REFRESH-INTERVAL:P3D
CALSCALE:GREGORIAN
BEGIN:VEVENT
DTSTART:20240424T220000Z
DTEND:20240425T000000Z
X-MICROSOFT-CDO-ALLDAYEVENT:FALSE
SUMMARY:SBDC LA: WEBINAR Social Media Solutions: Making Facebook Ads Work For You
DESCRIPTION:This workshop will uncover the mysteries of using Facebook Ads to grow your business. Regardless of your experience in Facebook Ads\, this training will teach you how to set up your campaigns for success and get more from your advertising budget.\n\n\n\nIn this workshop you will learn:\n\n\n\ni. If you're running your Facebook Ads correctly\n\n\n\nii. The 5 pillars of successful Facebook Ads\n\n\n\niii. The one thing that may be holding back your Facebook Ads\n\n\n\niv. Why a marketing funnel is essential in a Facebook Ads campaign\n\n\n\nv. How to avoid the pitfalls of Facebook Ads
X-ALT-DESC;FMTTYPE=text/html:This workshop will uncover the mysteries of using Facebook Ads to grow your business. Regardless of your experience in Facebook Ads\, this training will teach you how to set up your campaigns for success and get more from your advertising budget.<br />\n<br />\nIn this workshop you will learn:<br />\n<br />\ni. If you&rsquo\;re running your Facebook Ads correctly<br />\n<br />\nii. The 5 pillars of successful Facebook Ads<br />\n<br />\niii. The one thing that may be holding back your Facebook Ads<br />\n<br />\niv. Why a marketing funnel is essential in a Facebook Ads campaign<br />\n<br />\nv. How to avoid the pitfalls of Facebook Ads
LOCATION:VIRTUAL - REGISTER HERE
UID:e.2438.9467
SEQUENCE:3
DTSTAMP:20260421T135745Z
URL:https://business.hbchamber.net/events/details/sbdc-la-webinar-social-media-solutions-making-facebook-ads-work-for-you-9467
END:VEVENT

END:VCALENDAR
