BEGIN:VCALENDAR
VERSION:2.0
PRODID:-//ChamberMaster//Event Calendar 2.0//EN
METHOD:PUBLISH
X-PUBLISHED-TTL:P3D
REFRESH-INTERVAL:P3D
CALSCALE:GREGORIAN
BEGIN:VEVENT
DTSTART:20220412T170000Z
DTEND:20220412T183000Z
X-MICROSOFT-CDO-ALLDAYEVENT:FALSE
SUMMARY:SBDC LA: WEBINAR Social Media Solutions: Instagram Reels
DESCRIPTION:Instagram's take on the ever-popular TikTok (and other new tools like Byte and Triller)\, Instagram Reels is a completely new format on Instagram that allows you to record and edit multiple 15-60 second videos set to popular songs.\n\n  How do Instagram Reels work to grow your small business\n\n  How to use the features of Instagram Reels to select the music\, speed\, and filters\n\n  How to shoot your video in storyboards to increase sales\n\n  How your reels are found in the discovery tab to target potential new customers\n\n  How to optimize your reels to target your ideal client/customer\n\n  How to convert reels into sales\n\n  Plus\, Q&A
X-ALT-DESC;FMTTYPE=text/html:<p style="box-sizing: border-box\; margin: 0px 0px 10px\; padding: 0px\; border: 0px\; font-variant-numeric: inherit\; font-variant-east-asian: inherit\; font-stretch: inherit\; line-height: 1.7\; font-family: &quot\;Proxima N W01 Light&quot\;\, Helvetica\, Arial\, sans-serif\; font-size: 18px\; vertical-align: baseline\; color: rgb(49\, 49\, 49)\;">Instagram&rsquo\;s take on the ever-popular TikTok (and other new tools like Byte and Triller)\, Instagram Reels is a completely new format on Instagram that allows you to record and edit multiple 15-60 second videos set to popular songs.</p>\n\n<p style="box-sizing: border-box\; margin: 0px 0px 10px\; padding: 0px\; border: 0px\; font-variant-numeric: inherit\; font-variant-east-asian: inherit\; font-stretch: inherit\; line-height: 1.7\; font-family: &quot\;Proxima N W01 Light&quot\;\, Helvetica\, Arial\, sans-serif\; font-size: 18px\; vertical-align: baseline\; color: rgb(49\, 49\, 49)\;">&bull\; How do Instagram Reels work to grow your small business<br style="box-sizing: border-box\;" />\n&bull\; How to use the features of Instagram Reels to select the music\, speed\, and filters<br style="box-sizing: border-box\;" />\n&bull\; How to shoot your video in storyboards to increase sales<br style="box-sizing: border-box\;" />\n&bull\; How your reels are found in the discovery tab to target potential new customers<br style="box-sizing: border-box\;" />\n&bull\; How to optimize your reels to target your ideal client/customer<br style="box-sizing: border-box\;" />\n&bull\; How to convert reels into sales<br style="box-sizing: border-box\;" />\n&bull\; Plus\, Q&amp\;A</p>\n
LOCATION:VIRTUAL - REGISTER HERE
UID:e.2438.5335
SEQUENCE:3
DTSTAMP:20260421T091815Z
URL:https://business.hbchamber.net/events/details/sbdc-la-webinar-social-media-solutions-instagram-reels-5335
END:VEVENT

END:VCALENDAR
