BEGIN:VCALENDAR
VERSION:2.0
PRODID:-//ChamberMaster//Event Calendar 2.0//EN
METHOD:PUBLISH
X-PUBLISHED-TTL:P3D
REFRESH-INTERVAL:P3D
CALSCALE:GREGORIAN
BEGIN:VEVENT
DTSTART:20240320T190000Z
DTEND:20240320T200000Z
X-MICROSOFT-CDO-ALLDAYEVENT:FALSE
SUMMARY:SBDC LA: Webinar – SEO Tips & Tricks for Your WordPress Website
DESCRIPTION:If you are using WordPress\, and you feel your site's keywords are not working for you\, hold on!  This webinar\,  SEO Tips and Tricks for Your WordPress Website\, presented by our SBDC Marketing and Web Development Specialist\, Darren Elliott\, will show you simple SEO tips that will improve how search engines are indexing your site.  Sign up today\, to learn what SEO improvements you can be making to your site quickly and easily\, that are in line with today's search engine best practices.
X-ALT-DESC;FMTTYPE=text/html:If you are using WordPress\, and you feel your site&rsquo\;s keywords are not working for you\, hold on!&nbsp\; This webinar\,&nbsp\; SEO Tips and Tricks for Your WordPress Website\, presented by our SBDC Marketing and Web Development Specialist\, Darren Elliott\, will show you simple SEO tips that will improve how search engines are indexing your site.&nbsp\; Sign up today\, to learn what SEO improvements you can be making to your site quickly and easily\, that are in line with today&rsquo\;s search engine best practices.
LOCATION:VIRTUAL - REGISTER HERE
UID:e.2438.9366
SEQUENCE:3
DTSTAMP:20260419T152309Z
URL:https://business.hbchamber.net/events/details/sbdc-la-webinar-seo-tips-tricks-for-your-wordpress-website-9366
END:VEVENT

END:VCALENDAR
