BEGIN:VCALENDAR
VERSION:2.0
PRODID:-//ChamberMaster//Event Calendar 2.0//EN
METHOD:PUBLISH
X-PUBLISHED-TTL:P3D
REFRESH-INTERVAL:P3D
CALSCALE:GREGORIAN
BEGIN:VEVENT
DTSTART:20240207T190000Z
DTEND:20240207T200000Z
X-MICROSOFT-CDO-ALLDAYEVENT:FALSE
SUMMARY:SBDC LA: Webinar – Sales Strategy Tips for Your Business
DESCRIPTION:Come ready to learn Sales Strategies Tips for Your Business as you explore the following:\n\n \n\n\n\nSkill Set vs. Style\n\nPricing\n\nCompetitive Advantage\n\nValue Proposition
X-ALT-DESC;FMTTYPE=text/html:Come ready to learn Sales Strategies Tips for Your Business as you explore the following:<br />\n&nbsp\;<br />\n<br />\nSkill Set vs. Style<br />\nPricing<br />\nCompetitive Advantage<br />\nValue Proposition
LOCATION:VIRTUAL - REGISTER HERE
UID:e.2438.9326
SEQUENCE:3
DTSTAMP:20260419T131716Z
URL:https://business.hbchamber.net/events/details/sbdc-la-webinar-sales-strategy-tips-for-your-business-9326
END:VEVENT

END:VCALENDAR
