BEGIN:VCALENDAR
VERSION:2.0
PRODID:-//ChamberMaster//Event Calendar 2.0//EN
METHOD:PUBLISH
X-PUBLISHED-TTL:P3D
REFRESH-INTERVAL:P3D
CALSCALE:GREGORIAN
BEGIN:VEVENT
DTSTART:20220323T190000Z
DTEND:20220323T200000Z
X-MICROSOFT-CDO-ALLDAYEVENT:FALSE
SUMMARY:SBDC LA: Webinar – Sales Strategy Tips for Your Business
DESCRIPTION:Come ready to learn Sales Strategies Tips for Your Business as you explore the following:\n\n  Skill Set vs. Style\n\n  Pricing\n\n  Competitive Advantage\n\n  Value Proposition
X-ALT-DESC;FMTTYPE=text/html:<p style="box-sizing: border-box\; margin: 0px 0px 10px\; padding: 0px\; border: 0px\; font-variant-numeric: inherit\; font-variant-east-asian: inherit\; font-stretch: inherit\; line-height: 1.7\; font-family: &quot\;Proxima N W01 Light&quot\;\, Helvetica\, Arial\, sans-serif\; font-size: 18px\; vertical-align: baseline\; color: rgb(49\, 49\, 49)\;"><span style="box-sizing: border-box\; margin: 0px\; padding: 0px\; border: 0px\; font-variant-numeric: inherit\; font-variant-east-asian: inherit\; font-weight: inherit\; font-stretch: inherit\; line-height: inherit\; font-family: &quot\;Proxima N W01 Smbd&quot\;\; font-size: 18px\; vertical-align: baseline\; color: rgb(49\, 49\, 49)\;">Come ready to learn Sales Strategies Tips for Your Business as you explore the following:</span><br style="box-sizing: border-box\; color: rgb(49\, 49\, 49)\; font-family: &quot\;Proxima N W01 Light&quot\;\, Helvetica\, Arial\, sans-serif\; font-size: 18px\;" />\n<span style="color: rgb(49\, 49\, 49)\; font-family: &quot\;Proxima N W01 Light&quot\;\, Helvetica\, Arial\, sans-serif\; font-size: 18px\;">&bull\; Skill Set vs. Style</span><br style="box-sizing: border-box\; color: rgb(49\, 49\, 49)\; font-family: &quot\;Proxima N W01 Light&quot\;\, Helvetica\, Arial\, sans-serif\; font-size: 18px\;" />\n<span style="color: rgb(49\, 49\, 49)\; font-family: &quot\;Proxima N W01 Light&quot\;\, Helvetica\, Arial\, sans-serif\; font-size: 18px\;">&bull\; Pricing</span><br style="box-sizing: border-box\; color: rgb(49\, 49\, 49)\; font-family: &quot\;Proxima N W01 Light&quot\;\, Helvetica\, Arial\, sans-serif\; font-size: 18px\;" />\n<span style="color: rgb(49\, 49\, 49)\; font-family: &quot\;Proxima N W01 Light&quot\;\, Helvetica\, Arial\, sans-serif\; font-size: 18px\;">&bull\; Competitive Advantage</span><br style="box-sizing: border-box\; color: rgb(49\, 49\, 49)\; font-family: &quot\;Proxima N W01 Light&quot\;\, Helvetica\, Arial\, sans-serif\; font-size: 18px\;" />\n<span style="color: rgb(49\, 49\, 49)\; font-family: &quot\;Proxima N W01 Light&quot\;\, Helvetica\, Arial\, sans-serif\; font-size: 18px\;">&bull\; Value Proposition</span></p>\n
LOCATION:VIRTUAL - REGISTER HERE
UID:e.2438.5323
SEQUENCE:3
DTSTAMP:20260421T105628Z
URL:https://business.hbchamber.net/events/details/sbdc-la-webinar-sales-strategy-tips-for-your-business-5323
END:VEVENT

END:VCALENDAR
