BEGIN:VCALENDAR
VERSION:2.0
PRODID:-//ChamberMaster//Event Calendar 2.0//EN
METHOD:PUBLISH
X-PUBLISHED-TTL:P3D
REFRESH-INTERVAL:P3D
CALSCALE:GREGORIAN
BEGIN:VEVENT
DTSTART:20240215T210000Z
DTEND:20240215T220000Z
X-MICROSOFT-CDO-ALLDAYEVENT:FALSE
SUMMARY:SBDC LA: WEBINAR Pump Up Your 2024 Marketing Plan—Get My Free Checklist!
DESCRIPTION:It's time to review and pump up your 2024 Marketing Plan! Learn how to market your business more effectively in 2024. This webinar will help you define your marketing goals and use my marketing checklist to target your market with the right digital & traditional marketing tools to get the results you desire. Learn how to grow your business smarter\, save money and time while growing your customer & lead list.\n\n\n\n \n\n\n\nThis Workshop Will Teach You:\n\n\n\n  What marketing tools are working in 2024 & what's not.\n\n\n\n  How to use my checklist to plan your marketing for 2024.\n\n\n\n  How to create a better offer\, promotion\, event\, webinar and digital ad.\n\n\n\n  How to set advertising goals and achieve them with smarter landing pages.\n\n\n\n  How to find media that attracts your target market & advertise effectively.\n\n\n\n  How to determine and measure calls-to-action that work better.\n\n\n\n  Tips to choose the right media & campaign types for your goals.\n\n\n\n  The best promotion tools (including digital ads\, social\, PPC & more).\n\n\n\n  How to design high-impact marketing and reach beyond your lists.\n\n\n\n  How to measure your results\, your website performance & plan for 2024.\n\n\n\n  How to ensure your digital ads deliver more successful results.
X-ALT-DESC;FMTTYPE=text/html:<p style="box-sizing: border-box\; margin: 0px 0px 10px\; padding: 0px\; border: 0px\; font-variant-numeric: inherit\; font-variant-east-asian: inherit\; font-variant-alternates: inherit\; font-variant-position: inherit\; font-stretch: inherit\; line-height: 1.7\; font-family: &quot\;Proxima N W01 Light&quot\;\, Helvetica\, Arial\, sans-serif\; font-optical-sizing: inherit\; font-kerning: inherit\; font-feature-settings: inherit\; font-variation-settings: inherit\; font-size: 18px\; vertical-align: baseline\; color: rgb(49\, 49\, 49)\;">It&rsquo\;s time to review and pump up your 2024 Marketing Plan! Learn how to market your business more effectively in 2024. This webinar will help you define your marketing goals and use my marketing checklist to target your market with the right digital &amp\; traditional marketing tools to get the results you desire. Learn how to grow your business smarter\, save money and time while growing your customer &amp\; lead list.<br />\n<br />\n&nbsp\;<br />\n<br />\nThis Workshop Will Teach You:<br />\n<br />\n&bull\; What marketing tools are working in 2024 &amp\; what&rsquo\;s not.<br />\n<br />\n&bull\; How to use my checklist to plan your marketing for 2024.<br />\n<br />\n&bull\; How to create a better offer\, promotion\, event\, webinar and digital ad.<br />\n<br />\n&bull\; How to set advertising goals and achieve them with smarter landing pages.<br />\n<br />\n&bull\; How to find media that attracts your target market &amp\; advertise effectively.<br />\n<br />\n&bull\; How to determine and measure calls-to-action that work better.<br />\n<br />\n&bull\; Tips to choose the right media &amp\; campaign types for your goals.<br />\n<br />\n&bull\; The best promotion tools (including digital ads\, social\, PPC &amp\; more).<br />\n<br />\n&bull\; How to design high-impact marketing and reach beyond your lists.<br />\n<br />\n&bull\; How to measure your results\, your website performance &amp\; plan for 2024.<br />\n<br />\n&bull\; How to ensure your digital ads deliver more successful results.</p>\n
LOCATION:VIRTUAL - REGISTER HERE
UID:e.2438.9351
SEQUENCE:3
DTSTAMP:20260419T131925Z
URL:https://business.hbchamber.net/events/details/sbdc-la-webinar-pump-up-your-2024-marketing-plan-get-my-free-checklist-9351
END:VEVENT

END:VCALENDAR
