BEGIN:VCALENDAR
VERSION:2.0
PRODID:-//ChamberMaster//Event Calendar 2.0//EN
METHOD:PUBLISH
X-PUBLISHED-TTL:P3D
REFRESH-INTERVAL:P3D
CALSCALE:GREGORIAN
BEGIN:VEVENT
DTSTART:20220208T170000Z
DTEND:20220208T183000Z
X-MICROSOFT-CDO-ALLDAYEVENT:FALSE
SUMMARY:SBDC LA: WEBINAR Orientation: Getting Your Business Started with the SBDC
DESCRIPTION:This workshop will provide attendees with information about the program requirements and the different services and training offered by the SBDC. The key fundamentals essential for starting a successful business will be reviewed. As capital is the life blood of any business\, your questions concerning capital and how the SBDC can assist in this effort will be addressed. And as a special bonus\, the critical reasons why products/services sell will also be discussed.
X-ALT-DESC;FMTTYPE=text/html:<p class="x_MsoNormal" style="box-sizing: border-box\; margin: 0px 0px 10px\; padding: 0px\; border: 0px\; font-variant-numeric: inherit\; font-variant-east-asian: inherit\; font-stretch: inherit\; line-height: 1.7\; font-family: &quot\;Proxima N W01 Light&quot\;\, Helvetica\, Arial\, sans-serif\; font-size: 18px\; vertical-align: baseline\; color: rgb(49\, 49\, 49)\;"><span style="color: rgb(49\, 49\, 49)\; font-family: &quot\;Proxima N W01 Light&quot\;\, Helvetica\, Arial\, sans-serif\; font-size: 18px\;">This workshop will provide attendees with information about the program requirements and the different services and training offered by the SBDC. The key fundamentals essential for starting a successful business will be reviewed. As capital is the life blood of any business\, your questions concerning capital and how the SBDC can assist in this effort will be addressed. And as a special bonus\, the critical reasons why products/services sell will also be discussed.</span></p>\n
LOCATION:VIRTUAL - REGISTER HERE
UID:e.2438.5139
SEQUENCE:3
DTSTAMP:20260421T132121Z
URL:https://business.hbchamber.net/events/details/sbdc-la-webinar-orientation-getting-your-business-started-with-the-sbdc-5139
END:VEVENT

END:VCALENDAR
