BEGIN:VCALENDAR
VERSION:2.0
PRODID:-//ChamberMaster//Event Calendar 2.0//EN
METHOD:PUBLISH
X-PUBLISHED-TTL:P3D
REFRESH-INTERVAL:P3D
CALSCALE:GREGORIAN
BEGIN:VEVENT
DTSTART:20220414T190000Z
DTEND:20220414T200000Z
X-MICROSOFT-CDO-ALLDAYEVENT:FALSE
SUMMARY:SBDC LA: Webinar – Legal Issues in Marketing and Promotion
DESCRIPTION:This webinar will introduce small business owners to legal issues in marketing and promotion\, such as "puffery" vs. fraud and misleading advertising\; steering clear of copyright infringement and rights of privacy/publicity\; marketing by phone\, fax\, email\, and text\; using social media\; differences in federal and state laws\; legal protections in marketing\; and legal penalties for noncompliance.
X-ALT-DESC;FMTTYPE=text/html:<p style="box-sizing: border-box\; margin: 0px 0px 10px\; padding: 0px\; border: 0px\; font-variant-numeric: inherit\; font-variant-east-asian: inherit\; font-stretch: inherit\; line-height: 1.7\; font-family: &quot\;Proxima N W01 Light&quot\;\, Helvetica\, Arial\, sans-serif\; font-size: 18px\; vertical-align: baseline\; color: rgb(49\, 49\, 49)\;"><span style="color: rgb(49\, 49\, 49)\; font-family: &quot\;Proxima N W01 Light&quot\;\, Helvetica\, Arial\, sans-serif\; font-size: 18px\;">This webinar will introduce small business owners to legal issues in marketing and promotion\, such as &ldquo\;puffery&rdquo\; vs. fraud and misleading advertising\; steering clear of copyright infringement and rights of privacy/publicity\; marketing by phone\, fax\, email\, and text\; using social media\; differences in federal and state laws\; legal protections in marketing\; and legal penalties for noncompliance.</span></p>\n
LOCATION:VIRTUAL - REGISTER HERE
UID:e.2438.5336
SEQUENCE:3
DTSTAMP:20260421T092237Z
URL:https://business.hbchamber.net/events/details/sbdc-la-webinar-legal-issues-in-marketing-and-promotion-5336
END:VEVENT

END:VCALENDAR
