BEGIN:VCALENDAR
VERSION:2.0
PRODID:-//ChamberMaster//Event Calendar 2.0//EN
METHOD:PUBLISH
X-PUBLISHED-TTL:P3D
REFRESH-INTERVAL:P3D
CALSCALE:GREGORIAN
BEGIN:VEVENT
DTSTART:20240214T200000Z
DTEND:20240214T210000Z
X-MICROSOFT-CDO-ALLDAYEVENT:FALSE
SUMMARY:SBDC LA: Webinar: Improving Employee Retention\, Recruitment and Culture
DESCRIPTION:As employers nationwide continue to struggle to find quality employees\, employers must focus on their current staff and company culture to attract the best candidates for new available positions.  This webinar will touch on ways to improve your current staff morale\, offer tips for recruiting the best available candidates\, and focus on your overall company culture.  Presented by Kevin McVearry\, a business advisor for the SBDC since 2012\, with over 25 years of experience recruiting\, training\, and retaining employees in the restaurant industry.  This webinar is for all industries which rely on employees.  Offered as a Zoom meeting so that attendees can ask questions during the presentation.
X-ALT-DESC;FMTTYPE=text/html:As employers nationwide continue to struggle to find quality employees\, employers must focus on their current staff and company culture to attract the best candidates for new available positions.&nbsp\; This webinar will touch on ways to improve your current staff morale\, offer tips for recruiting the best available candidates\, and focus on your overall company culture.&nbsp\; Presented by Kevin McVearry\, a business advisor for the SBDC since 2012\, with over 25 years of experience recruiting\, training\, and retaining employees in the restaurant industry.&nbsp\; This webinar is for all industries which rely on employees.&nbsp\; Offered as a Zoom meeting so that attendees can ask questions during the presentation.
LOCATION:VIRTUAL - REGISTER HERE
UID:e.2438.9328
SEQUENCE:3
DTSTAMP:20260419T131925Z
URL:https://business.hbchamber.net/events/details/sbdc-la-webinar-improving-employee-retention-recruitment-and-culture-9328
END:VEVENT

END:VCALENDAR
