BEGIN:VCALENDAR
VERSION:2.0
PRODID:-//ChamberMaster//Event Calendar 2.0//EN
METHOD:PUBLISH
X-PUBLISHED-TTL:P3D
REFRESH-INTERVAL:P3D
CALSCALE:GREGORIAN
BEGIN:VEVENT
DTSTART:20240315T170000Z
DTEND:20240315T180000Z
X-MICROSOFT-CDO-ALLDAYEVENT:FALSE
SUMMARY:SBDC LA: WEBINAR Human Resources: Do’s and Don’ts of Hiring
DESCRIPTION:This training is designed to assist California small business owners create a realistic and compliant strategy to legally hire employees.
X-ALT-DESC;FMTTYPE=text/html:This training is designed to assist California small business owners create a realistic and compliant strategy to legally hire employees.
LOCATION:VIRTUAL - REGISTER HERE
UID:e.2438.9400
SEQUENCE:3
DTSTAMP:20260419T150034Z
URL:https://business.hbchamber.net/events/details/sbdc-la-webinar-human-resources-do-s-and-don-ts-of-hiring-9400
END:VEVENT

END:VCALENDAR
