BEGIN:VCALENDAR
VERSION:2.0
PRODID:-//ChamberMaster//Event Calendar 2.0//EN
METHOD:PUBLISH
X-PUBLISHED-TTL:P3D
REFRESH-INTERVAL:P3D
CALSCALE:GREGORIAN
BEGIN:VEVENT
DTSTART:20240221T183000Z
DTEND:20240221T193000Z
X-MICROSOFT-CDO-ALLDAYEVENT:FALSE
SUMMARY:SBDC LA: Webinar – Getting Your Business Website Tuned Up For 2024
DESCRIPTION:Why Do I Need A Site Tune-up?  You're probably asking the question but don't know the answer.  Your customers and Future customers are the answer.  Come and learn:\n\n\n\n \n\n\n\nThings you can do to improve Your Site performance and visibility\n\nKeys to a Successful Site Update\n\nCritical Types of Updates\n\nAnd more
X-ALT-DESC;FMTTYPE=text/html:<div style="box-sizing: border-box\; margin: 0px\; padding: 0px\; border: 0px\; font-variant-numeric: inherit\; font-variant-east-asian: inherit\; font-stretch: inherit\; line-height: inherit\; font-family: &quot\;Proxima N W01 Light&quot\;\, Helvetica\, Arial\, sans-serif\; font-size: 18px\; vertical-align: baseline\; color: rgb(49\, 49\, 49)\;">\n<p style="box-sizing: border-box\; margin: 0px 0px 10px\; padding: 0px\; border: 0px\; font-style: inherit\; font-variant: inherit\; font-weight: inherit\; font-stretch: inherit\; line-height: 1.7\; font-family: inherit\; vertical-align: baseline\;">Why Do I Need A Site Tune-up?&nbsp\; You&rsquo\;re probably asking the question&hellip\;but don&rsquo\;t know the answer.&nbsp\; Your customers and Future customers are the answer.&nbsp\; Come and learn:<br />\n<br />\n&nbsp\;<br />\n<br />\nThings you can do to improve Your Site performance and visibility<br />\nKeys to a Successful Site Update<br />\nCritical Types of Updates<br />\nAnd more</p>\n</div>\n
LOCATION:VIRTUAL - REGISTER HERE
UID:e.2438.9347
SEQUENCE:3
DTSTAMP:20260419T131845Z
URL:https://business.hbchamber.net/events/details/sbdc-la-webinar-getting-your-business-website-tuned-up-for-2024-9347
END:VEVENT

END:VCALENDAR
