BEGIN:VCALENDAR
VERSION:2.0
PRODID:-//ChamberMaster//Event Calendar 2.0//EN
METHOD:PUBLISH
X-PUBLISHED-TTL:P3D
REFRESH-INTERVAL:P3D
CALSCALE:GREGORIAN
BEGIN:VEVENT
DTSTART:20220414T200000Z
DTEND:20220414T220000Z
X-MICROSOFT-CDO-ALLDAYEVENT:FALSE
SUMMARY:SBDC LA: WEBINAR E-Smarts: How to Use Technology to Adapt Your Business and Reach New Customers
DESCRIPTION:As consumers get younger and more tech-savvy\, businesses need to pivot to find and appeal to new customers.\n\nWe will investigate the strategies used by successful companies\, and look at the various areas that you can adapt your business in the Digital Age. Keeping up with the times is vitally important to keep your edge in a competitive marketplace.
X-ALT-DESC;FMTTYPE=text/html:<p style="box-sizing: border-box\; margin: 0px 0px 10px\; padding: 0px\; border: 0px\; font-variant-numeric: inherit\; font-variant-east-asian: inherit\; font-stretch: inherit\; line-height: 1.7\; font-family: &quot\;Proxima N W01 Light&quot\;\, Helvetica\, Arial\, sans-serif\; font-size: 18px\; vertical-align: baseline\; color: rgb(49\, 49\, 49)\;"><span style="color: rgb(49\, 49\, 49)\; font-family: &quot\;Proxima N W01 Light&quot\;\, Helvetica\, Arial\, sans-serif\; font-size: 18px\;">As consumers get younger and more tech-savvy\, businesses need to pivot to find and appeal to new customers.</span><br style="box-sizing: border-box\; color: rgb(49\, 49\, 49)\; font-family: &quot\;Proxima N W01 Light&quot\;\, Helvetica\, Arial\, sans-serif\; font-size: 18px\;" />\n<span style="color: rgb(49\, 49\, 49)\; font-family: &quot\;Proxima N W01 Light&quot\;\, Helvetica\, Arial\, sans-serif\; font-size: 18px\;">We will investigate the strategies used by successful companies\, and look at the various areas that you can adapt your business in the Digital Age. Keeping up with the times is vitally important to keep your edge in a competitive marketplace.</span></p>\n
LOCATION:VIRTUAL - REGISTER HERE
UID:e.2438.5337
SEQUENCE:3
DTSTAMP:20260421T092413Z
URL:https://business.hbchamber.net/events/details/sbdc-la-webinar-e-smarts-how-to-use-technology-to-adapt-your-business-and-reach-new-customers-5337
END:VEVENT

END:VCALENDAR
