BEGIN:VCALENDAR
VERSION:2.0
PRODID:-//ChamberMaster//Event Calendar 2.0//EN
METHOD:PUBLISH
X-PUBLISHED-TTL:P3D
REFRESH-INTERVAL:P3D
CALSCALE:GREGORIAN
BEGIN:VEVENT
DTSTART:20240228T230000Z
DTEND:20240229T010000Z
X-MICROSOFT-CDO-ALLDAYEVENT:FALSE
SUMMARY:SBDC LA: WEBINAR E-Smarts: Digital Marketing Automation-Leverage Your Business Growth
DESCRIPTION:This workshop will go over how you can set up an automated Digital Marketing system to grow your business by leverage your time using systems. Regardless of your business\, you will learn how to take advantage of automation to beat your competitors and free up your valuable time.\n\n\n\nIn this workshop you will discover:\n\n\n\nHow to find and attract potential customers\n\nHow to take interested leads and turn them into paying customers\n\nHow to increase the lifetime value of your customers\n\nHow to create the systems to do all this on autopilot
X-ALT-DESC;FMTTYPE=text/html:<p style="box-sizing: border-box\; margin: 0px 0px 10px\; padding: 0px\; border: 0px\; font-variant-numeric: inherit\; font-variant-east-asian: inherit\; font-stretch: inherit\; line-height: 1.7\; font-family: &quot\;Proxima N W01 Light&quot\;\, Helvetica\, Arial\, sans-serif\; font-size: 18px\; vertical-align: baseline\; color: rgb(49\, 49\, 49)\;">This workshop will go over how you can set up an automated Digital Marketing system to grow your business by leverage your time using systems. Regardless of your business\, you will learn how to take advantage of automation to beat your competitors and free up your valuable time.<br />\n<br />\nIn this workshop you will discover:<br />\n<br />\nHow to find and attract potential customers<br />\nHow to take interested leads and turn them into paying customers<br />\nHow to increase the lifetime value of your customers<br />\nHow to create the systems to do all this on autopilot</p>\n\n<p style="box-sizing: border-box\; margin: 0px 0px 10px\; padding: 0px\; border: 0px\; font-variant-numeric: inherit\; font-variant-east-asian: inherit\; font-stretch: inherit\; line-height: 1.7\; font-family: &quot\;Proxima N W01 Light&quot\;\, Helvetica\, Arial\, sans-serif\; font-size: 18px\; vertical-align: baseline\; color: rgb(49\, 49\, 49)\;">&nbsp\;</p>\n
LOCATION:VIRTUAL - REGISTER HERE
UID:e.2438.9346
SEQUENCE:3
DTSTAMP:20260419T131830Z
URL:https://business.hbchamber.net/events/details/sbdc-la-webinar-e-smarts-digital-marketing-automation-leverage-your-business-growth-9346
END:VEVENT

END:VCALENDAR
