BEGIN:VCALENDAR
VERSION:2.0
PRODID:-//ChamberMaster//Event Calendar 2.0//EN
METHOD:PUBLISH
X-PUBLISHED-TTL:P3D
REFRESH-INTERVAL:P3D
CALSCALE:GREGORIAN
BEGIN:VEVENT
DTSTART:20240229T200000Z
DTEND:20240229T213000Z
X-MICROSOFT-CDO-ALLDAYEVENT:FALSE
SUMMARY:SBDC LA: Webinar – Buying and Selling a Business – What you need to know….
DESCRIPTION:This webinar will teach the basics of buying and selling a business\, such as conducting "due diligence"- inspecting the financial records\, contracts and business assets\; determining the value of the business\; preparing contracts and related purchase-and-sale documents\; tax considerations\; and knowing when to "walk away" from a deal.
X-ALT-DESC;FMTTYPE=text/html:This webinar will teach the basics of buying and selling a business\, such as conducting &ldquo\;due diligence&rdquo\;- inspecting the financial records\, contracts and business assets\; determining the value of the business\; preparing contracts and related purchase-and-sale documents\; tax considerations\; and knowing when to &ldquo\;walk away&rdquo\; from a deal.<br />\n
LOCATION:VIRTUAL - REGISTER HERE
UID:e.2438.9330
SEQUENCE:3
DTSTAMP:20260419T132240Z
URL:https://business.hbchamber.net/events/details/sbdc-la-webinar-buying-and-selling-a-business-what-you-need-to-know-9330
END:VEVENT

END:VCALENDAR
