BEGIN:VCALENDAR
VERSION:2.0
PRODID:-//ChamberMaster//Event Calendar 2.0//EN
METHOD:PUBLISH
X-PUBLISHED-TTL:P3D
REFRESH-INTERVAL:P3D
CALSCALE:GREGORIAN
BEGIN:VEVENT
DTSTART:20240208T200000Z
DTEND:20240208T220000Z
X-MICROSOFT-CDO-ALLDAYEVENT:FALSE
SUMMARY:SBDC LA: WEBINAR AI for Social Media: An Intro to Best Practices for Integrating AI into Real World Content
DESCRIPTION:This workshop will define the basics of Artificial Intelligence (AI) through the lens of ChatGPT. What is AI? What is ChatGPT? Should ChatGPT be used in your social media strategies? We'll discuss how to use ChatGPT as a tool to create\, visualize and strategize content for social media.
X-ALT-DESC;FMTTYPE=text/html:This workshop will define the basics of Artificial Intelligence (AI) through the lens of ChatGPT. What is AI? What is ChatGPT? Should ChatGPT be used in your social media strategies? We&rsquo\;ll discuss how to use ChatGPT as a tool to create\, visualize and strategize content for social media.<br />\n
LOCATION:VIRTUAL - REGISTER HERE
UID:e.2438.9353
SEQUENCE:3
DTSTAMP:20260419T132338Z
URL:https://business.hbchamber.net/events/details/sbdc-la-webinar-ai-for-social-media-an-intro-to-best-practices-for-integrating-ai-into-real-world-content-9353
END:VEVENT

END:VCALENDAR
