BEGIN:VCALENDAR
VERSION:2.0
PRODID:-//ChamberMaster//Event Calendar 2.0//EN
METHOD:PUBLISH
X-PUBLISHED-TTL:P3D
REFRESH-INTERVAL:P3D
CALSCALE:GREGORIAN
BEGIN:VEVENT
DTSTART:20240228T200000Z
DTEND:20240228T210000Z
X-MICROSOFT-CDO-ALLDAYEVENT:FALSE
SUMMARY:SBDC LA: Webinar – AI Content for Websites & Marketing
DESCRIPTION:Artificial Intelligence is here\, and likely will be for a while.  There is a lot more to learn before incorporating AI generated content into your business website and/or marketing.\n\n\n\nSBDC Digital Marketing Consultant\, Darren Elliott\, will provide tips on when you may want to use AI as a tool.  Being aware of potential risks when using AI is another area that will be explored.
X-ALT-DESC;FMTTYPE=text/html:Artificial Intelligence is here\, and likely will be for a while.&nbsp\; There is a lot more to learn before incorporating AI generated content into your business website and/or marketing.<br />\n<br />\nSBDC Digital Marketing Consultant\, Darren Elliott\, will provide tips on when you may want to use AI as a tool.&nbsp\; Being aware of potential risks when using AI is another area that will be explored.&nbsp\; &nbsp\;
LOCATION:VIRTUAL - REGISTER HERE
UID:e.2438.9345
SEQUENCE:3
DTSTAMP:20260419T131652Z
URL:https://business.hbchamber.net/events/details/sbdc-la-webinar-ai-content-for-websites-marketing-9345
END:VEVENT

END:VCALENDAR
