BEGIN:VCALENDAR
VERSION:2.0
PRODID:-//ChamberMaster//Event Calendar 2.0//EN
METHOD:PUBLISH
X-PUBLISHED-TTL:P3D
REFRESH-INTERVAL:P3D
CALSCALE:GREGORIAN
BEGIN:VEVENT
DTSTART:20240320T173000Z
DTEND:20240320T180000Z
X-MICROSOFT-CDO-ALLDAYEVENT:FALSE
SUMMARY:SBDC LA: Webinar – 7 Steps to Maintaining Your WordPress Website
DESCRIPTION:As much fun as it is to develop a WordPress site\, it does take a certain amount of knowledge to properly care for and maintain it.  In this webinar SBDC Digital Marketing Consultant and Web Developer\, Darren Elliott will walk you through the key areas of the WordPress dashboard that pose the highest security threats\, and require the most attention\, to help keep things running smooth.  Maybe you are a DIY web builder\, or you want to learn more to better manage your web development team.  Whatever the case may be\, this is a webinar to make time for.  Sign up today!
X-ALT-DESC;FMTTYPE=text/html:<p style="box-sizing: border-box\; margin: 0px 0px 10px\; padding: 0px\; border: 0px\; font-variant-numeric: inherit\; font-variant-east-asian: inherit\; font-variant-alternates: inherit\; font-variant-position: inherit\; font-stretch: inherit\; line-height: 1.7\; font-family: &quot\;Proxima N W01 Light&quot\;\, Helvetica\, Arial\, sans-serif\; font-optical-sizing: inherit\; font-kerning: inherit\; font-feature-settings: inherit\; font-variation-settings: inherit\; font-size: 18px\; vertical-align: baseline\; color: rgb(49\, 49\, 49)\;">As much fun as it is to develop a WordPress site\, it does take a certain amount of knowledge to properly care for and maintain it.&nbsp\; In this webinar SBDC Digital Marketing Consultant and Web Developer\, Darren Elliott will walk you through the key areas of the WordPress dashboard that pose the highest security threats\, and require the most attention\, to help keep things running smooth.&nbsp\; Maybe you are a DIY web builder\, or you want to learn more to better manage your web development team.&nbsp\; Whatever the case may be\, this is a webinar to make time for.&nbsp\; Sign up today!</p>\n\n<p style="box-sizing: border-box\; margin: 0px 0px 10px\; padding: 0px\; border: 0px\; font-variant-numeric: inherit\; font-variant-east-asian: inherit\; font-variant-alternates: inherit\; font-variant-position: inherit\; font-stretch: inherit\; line-height: 1.7\; font-family: &quot\;Proxima N W01 Light&quot\;\, Helvetica\, Arial\, sans-serif\; font-optical-sizing: inherit\; font-kerning: inherit\; font-feature-settings: inherit\; font-variation-settings: inherit\; font-size: 18px\; vertical-align: baseline\; color: rgb(49\, 49\, 49)\;">&nbsp\;</p>\n
LOCATION:VIRTUAL - REGISTER HERE
UID:e.2438.9365
SEQUENCE:3
DTSTAMP:20260419T145518Z
URL:https://business.hbchamber.net/events/details/sbdc-la-webinar-7-steps-to-maintaining-your-wordpress-website-9365
END:VEVENT

END:VCALENDAR
