BEGIN:VCALENDAR
VERSION:2.0
PRODID:-//ChamberMaster//Event Calendar 2.0//EN
METHOD:PUBLISH
X-PUBLISHED-TTL:P3D
REFRESH-INTERVAL:P3D
CALSCALE:GREGORIAN
BEGIN:VEVENT
DTSTART:20240424T190000Z
DTEND:20240424T200000Z
X-MICROSOFT-CDO-ALLDAYEVENT:FALSE
SUMMARY:SBDC LA: Webinar – 10 Reasons Your Page Won’t Rank…Even Though It’s Optimized
DESCRIPTION:It would be nice to think\; "Build it and they will come."  Truth is\, there are key steps that must be included\, and our own Web Developer and Marketing Consultant\, Darren Elliott\, will be demonstrating and simplifying these steps\, just for you. By the end of this webinar\, you will have the confidence and clarity to improve your site's page performance.  Sign up today!
X-ALT-DESC;FMTTYPE=text/html:It would be nice to think\; &ldquo\;Build it and they will come.&rdquo\;&nbsp\; Truth is\, there are key steps that must be included\, and our own Web Developer and Marketing Consultant\, Darren Elliott\, will be demonstrating and simplifying these steps\, just for you. By the end of this webinar\, you will have the confidence and clarity to improve your site&rsquo\;s page performance.&nbsp\; Sign up today!<br />\n
LOCATION:VIRTUAL - REGISTER HERE
UID:e.2438.9465
SEQUENCE:3
DTSTAMP:20260421T135759Z
URL:https://business.hbchamber.net/events/details/sbdc-la-webinar-10-reasons-your-page-won-t-rank-even-though-it-s-optimized-9465
END:VEVENT

END:VCALENDAR
