BEGIN:VCALENDAR
VERSION:2.0
PRODID:-//ChamberMaster//Event Calendar 2.0//EN
METHOD:PUBLISH
X-PUBLISHED-TTL:P3D
REFRESH-INTERVAL:P3D
CALSCALE:GREGORIAN
BEGIN:VEVENT
DTSTART:20240314T170000Z
DTEND:20240314T183000Z
X-MICROSOFT-CDO-ALLDAYEVENT:FALSE
SUMMARY:SBDC LA: Unlocking the 6 C’s of Connecting on Camera: A Guide for Small Business Owners
DESCRIPTION:In the fast-paced world of social media\, the power of video cannot be underestimated. As a small business owner\, your ability to connect with your audience through the lens can dramatically amplify your brand's reach\, engagement\, and ultimately\, success. Whether you're a seasoned video creator or just starting\, mastering the art of being on camera is essential.\n\n\n\nJoin us for an exclusive webinar designed specifically for small business owners eager to grow their social media presence. "Unlocking the 6 C's of Connecting on Camera" is more than just a workshop\; it's your blueprint to creating compelling content that resonates with your audience.\n\n\n\nWhat You'll Learn:\n\n\n\nClarity: How to define your message and ensure it's conveyed clearly in every video.\n\n\n\nConfidence: Tips and tricks to boost your on-camera presence\, making you a magnetic force your audience can't ignore.\n\n\n\nConnection/Charisma: Techniques to foster a genuine connection with your audience\, turning viewers into loyal followers and customers.\n\n\n\nConsistency: Strategies to maintain a consistent brand voice and aesthetic across all your videos\, building trust and recognition.\n\n\n\nCreativity: Exploring creative angles\, formats\, and ideas to keep your content fresh and exciting.\n\n\n\nCall to Action: How to crafting engaging stories that captivate your viewers and encourage shares with a compelling call to action.
X-ALT-DESC;FMTTYPE=text/html:In the fast-paced world of social media\, the power of video cannot be underestimated. As a small business owner\, your ability to connect with your audience through the lens can dramatically amplify your brand&rsquo\;s reach\, engagement\, and ultimately\, success. Whether you&rsquo\;re a seasoned video creator or just starting\, mastering the art of being on camera is essential.<br />\n<br />\nJoin us for an exclusive webinar designed specifically for small business owners eager to grow their social media presence. &ldquo\;Unlocking the 6 C&rsquo\;s of Connecting on Camera&rdquo\; is more than just a workshop\; it&rsquo\;s your blueprint to creating compelling content that resonates with your audience.<br />\n<br />\nWhat You&rsquo\;ll Learn:<br />\n<br />\nClarity: How to define your message and ensure it&rsquo\;s conveyed clearly in every video.<br />\n<br />\nConfidence: Tips and tricks to boost your on-camera presence\, making you a magnetic force your audience can&rsquo\;t ignore.<br />\n<br />\nConnection/Charisma: Techniques to foster a genuine connection with your audience\, turning viewers into loyal followers and customers.<br />\n<br />\nConsistency: Strategies to maintain a consistent brand voice and aesthetic across all your videos\, building trust and recognition.<br />\n<br />\nCreativity: Exploring creative angles\, formats\, and ideas to keep your content fresh and exciting.<br />\n<br />\nCall to Action: How to crafting engaging stories that captivate your viewers and encourage shares with a compelling call to action.
LOCATION:VIRTUAL - REGISTER HERE
UID:e.2438.9398
SEQUENCE:3
DTSTAMP:20260419T150052Z
URL:https://business.hbchamber.net/events/details/sbdc-la-unlocking-the-6-c-s-of-connecting-on-camera-a-guide-for-small-business-owners-9398
END:VEVENT

END:VCALENDAR
