BEGIN:VCALENDAR
VERSION:2.0
PRODID:-//ChamberMaster//Event Calendar 2.0//EN
METHOD:PUBLISH
X-PUBLISHED-TTL:P3D
REFRESH-INTERVAL:P3D
CALSCALE:GREGORIAN
BEGIN:VEVENT
DTSTART:20240222T180000Z
DTEND:20240222T200000Z
X-MICROSOFT-CDO-ALLDAYEVENT:FALSE
SUMMARY:SBDC LA: Unleashing the Power of AI for Enhanced Online Branding& Marketing
DESCRIPTION:Are you looking to take your online branding\, website\, and marketing efforts to new heights?\n\n\n\nBut you find the following hindering your online presence?\n\n1. Limited Resources: Limited budget and manpower\, struggling to compete.\n\n2. Time Constraints: Joggling multiple hats and various responsibilities.\n\n3. Lack of Technical Expertise: Lack of in-depth knowledge of AI\, making you feel overwhelmed.\n\n4. Standing Out in a Crowded Market: You are challenged differentiating yourself from competitors.\n\n\n\nIn today's fast-paced digital landscape\, we understand the challenges you face. Crafting a captivating brand image\, optimizing your website\, and standing out on social media platforms can be overwhelming.
X-ALT-DESC;FMTTYPE=text/html:Are you looking to take your online branding\, website\, and marketing efforts to new heights?<br />\n<br />\nBut you find the following hindering your online presence?<br />\n1. Limited Resources: Limited budget and manpower\, struggling to compete.<br />\n2. Time Constraints: Joggling multiple hats and various responsibilities.<br />\n3. Lack of Technical Expertise: Lack of in-depth knowledge of AI\, making you feel overwhelmed.<br />\n4. Standing Out in a Crowded Market: You are challenged differentiating yourself from competitors.<br />\n<br />\nIn today&rsquo\;s fast-paced digital landscape\, we understand the challenges you face. Crafting a captivating brand image\, optimizing your website\, and standing out on social media platforms can be overwhelming.
LOCATION:VIRTUAL - REGISTER HERE
UID:e.2438.9329
SEQUENCE:3
DTSTAMP:20260419T132438Z
URL:https://business.hbchamber.net/events/details/sbdc-la-unleashing-the-power-of-ai-for-enhanced-online-branding-marketing-9329
END:VEVENT

END:VCALENDAR
