BEGIN:VCALENDAR
VERSION:2.0
PRODID:-//ChamberMaster//Event Calendar 2.0//EN
METHOD:PUBLISH
X-PUBLISHED-TTL:P3D
REFRESH-INTERVAL:P3D
CALSCALE:GREGORIAN
BEGIN:VEVENT
DTSTART:20240418T210000Z
DTEND:20240418T223000Z
X-MICROSOFT-CDO-ALLDAYEVENT:FALSE
SUMMARY:SBDC LA: Transform Your Small Business with Generative AI: Mastering CHAT GPT\, Canva Magic\, and Google Gemini
DESCRIPTION:In today's digital age\, leveraging the power of Generative AI can set your small business apart\, providing innovative solutions to everyday challenges and opening up new avenues for creativity and efficiency. This hands-on training session is specifically designed for small business owners who are eager to explore the potential of Generative AI in transforming their business operations\, marketing strategies\, and customer engagement.\n\n\n\nWhat You Will Learn:\n\n\n\nIntroduction to Generative AI: Understand the basics of Generative AI and how it can be applied to various aspects of your business.\n\nMastering CHAT GPT for Enhanced Customer Interaction: Discover how CHAT GPT can revolutionize your customer service and engagement\, from automating responses to creating personalized interactions. Learn practical ways to integrate this powerful tool into your website\, social media\, and customer service platforms.\n\nCreative Design with Canva Magic: Dive into the world of Canva Magic\, where we'll show you how to use its AI-driven design capabilities to create stunning graphics\, marketing materials\, and social media content effortlessly. Whether you're a design novice or looking to streamline your creative process\, Canva Magic offers tools that can save time and enhance your brand's visual appeal.\n\nBoost Your Online Presence with Google Gemini: Get to grips with Google Gemini\, exploring how its AI capabilities can help optimize your online advertising campaigns. Learn how to use Google Gemini for precise targeting\, ad customization\, and performance analysis to ensure your marketing budget is spent wisely\, reaching the right audience at the right time.\n\nIntegration Strategies: Understand how to seamlessly integrate CHAT GPT\, Canva Magic\, and Google Gemini into your existing business workflows. Gain insights into best practices for adoption and overcoming potential challenges.\n\nReal-World Applications and Success Stories: Be inspired by success stories from small businesses that have successfully integrated these Generative AI tools. Learn from their experiences and gain actionable tips to apply to your own business.\n\nWho Should Attend: This training is ideal for small business owners\, entrepreneurs\, marketing professionals\, and anyone interested in leveraging the power of Generative AI to enhance their business operations and marketing efforts. No prior technical knowledge is required\, as our aim is to provide practical\, easy-to-implement solutions for businesses of all sizes.\n\n\n\nOutcomes: By the end of this session\, you'll have a clear understanding of how CHAT GPT\, Canva Magic\, and Google Gemini can be used to benefit your small business. You'll leave equipped with the knowledge and tools to begin implementing these AI solutions\, ready to take your business to the next level.\n\n\n\nJoin us to unlock the potential of Generative AI and transform the way you do business. Empower your small business with the latest in AI technology and stay ahead of the competition.\n\n\n\nInstructor: Deborah Deras\, Social Media Goddess\, Mindful AI Expert\n\n\n\n*The WEBINAR will be conducted via ZOOM. Instructions to connect via ZOOM will be sent out to all registrants the day before the webinar.
X-ALT-DESC;FMTTYPE=text/html:In today&rsquo\;s digital age\, leveraging the power of Generative AI can set your small business apart\, providing innovative solutions to everyday challenges and opening up new avenues for creativity and efficiency. This hands-on training session is specifically designed for small business owners who are eager to explore the potential of Generative AI in transforming their business operations\, marketing strategies\, and customer engagement.<br />\n<br />\nWhat You Will Learn:<br />\n<br />\nIntroduction to Generative AI: Understand the basics of Generative AI and how it can be applied to various aspects of your business.<br />\nMastering CHAT GPT for Enhanced Customer Interaction: Discover how CHAT GPT can revolutionize your customer service and engagement\, from automating responses to creating personalized interactions. Learn practical ways to integrate this powerful tool into your website\, social media\, and customer service platforms.<br />\nCreative Design with Canva Magic: Dive into the world of Canva Magic\, where we&rsquo\;ll show you how to use its AI-driven design capabilities to create stunning graphics\, marketing materials\, and social media content effortlessly. Whether you&rsquo\;re a design novice or looking to streamline your creative process\, Canva Magic offers tools that can save time and enhance your brand&rsquo\;s visual appeal.<br />\nBoost Your Online Presence with Google Gemini: Get to grips with Google Gemini\, exploring how its AI capabilities can help optimize your online advertising campaigns. Learn how to use Google Gemini for precise targeting\, ad customization\, and performance analysis to ensure your marketing budget is spent wisely\, reaching the right audience at the right time.<br />\nIntegration Strategies: Understand how to seamlessly integrate CHAT GPT\, Canva Magic\, and Google Gemini into your existing business workflows. Gain insights into best practices for adoption and overcoming potential challenges.<br />\nReal-World Applications and Success Stories: Be inspired by success stories from small businesses that have successfully integrated these Generative AI tools. Learn from their experiences and gain actionable tips to apply to your own business.<br />\nWho Should Attend: This training is ideal for small business owners\, entrepreneurs\, marketing professionals\, and anyone interested in leveraging the power of Generative AI to enhance their business operations and marketing efforts. No prior technical knowledge is required\, as our aim is to provide practical\, easy-to-implement solutions for businesses of all sizes.<br />\n<br />\nOutcomes: By the end of this session\, you&rsquo\;ll have a clear understanding of how CHAT GPT\, Canva Magic\, and Google Gemini can be used to benefit your small business. You&rsquo\;ll leave equipped with the knowledge and tools to begin implementing these AI solutions\, ready to take your business to the next level.<br />\n<br />\nJoin us to unlock the potential of Generative AI and transform the way you do business. Empower your small business with the latest in AI technology and stay ahead of the competition.<br />\n<br />\nInstructor: Deborah Deras\, Social Media Goddess\, Mindful AI Expert<br />\n<br />\n*The WEBINAR will be conducted via ZOOM. Instructions to connect via ZOOM will be sent out to all registrants the day before the webinar.&nbsp\;
LOCATION:VIRTUAL - REGISTER HERE
UID:e.2438.9463
SEQUENCE:3
DTSTAMP:20260421T135801Z
URL:https://business.hbchamber.net/events/details/sbdc-la-transform-your-small-business-with-generative-ai-mastering-chat-gpt-canva-magic-and-google-gemini-9463
END:VEVENT

END:VCALENDAR
