BEGIN:VCALENDAR
VERSION:2.0
PRODID:-//ChamberMaster//Event Calendar 2.0//EN
METHOD:PUBLISH
X-PUBLISHED-TTL:P3D
REFRESH-INTERVAL:P3D
CALSCALE:GREGORIAN
BEGIN:VEVENT
DTSTART:20220322T190000Z
DTEND:20220322T200000Z
X-MICROSOFT-CDO-ALLDAYEVENT:FALSE
SUMMARY:SBDC LA: Staying Risk-Free: New Applicable Employment Laws for Small Businesses
DESCRIPTION:Employment laws change every year\, are you in the know about what applies to your business?\n\nCome join us to learn about:\n\n  Labor law update\n\n  OSHA's Emergency Temporary Standard\n\n  Minimum wage increases\n\n  New & remaining Covid-19 Supplemental Paid Sick Leave\n\n  Upcoming compliance requirements\n\nFollowed by Q&A
X-ALT-DESC;FMTTYPE=text/html:<p class="xmsonormal" style="box-sizing: border-box\; margin: 0px 0px 10px\; padding: 0px\; border: 0px\; font-variant-numeric: inherit\; font-variant-east-asian: inherit\; font-stretch: inherit\; line-height: 1.7\; font-family: &quot\;Proxima N W01 Light&quot\;\, Helvetica\, Arial\, sans-serif\; font-size: 18px\; vertical-align: baseline\; color: rgb(49\, 49\, 49)\;">Employment laws change every year\, are you in the know about what applies to your business?</p>\n\n<p style="box-sizing: border-box\; margin: 0px 0px 10px\; padding: 0px\; border: 0px\; font-variant-numeric: inherit\; font-variant-east-asian: inherit\; font-stretch: inherit\; line-height: 1.7\; font-family: &quot\;Proxima N W01 Light&quot\;\, Helvetica\, Arial\, sans-serif\; font-size: 18px\; vertical-align: baseline\; color: rgb(49\, 49\, 49)\;"><span style="box-sizing: border-box\; margin: 0px\; padding: 0px\; border: 0px\; font-style: inherit\; font-variant: inherit\; font-weight: inherit\; font-stretch: inherit\; line-height: inherit\; font-family: &quot\;Proxima N W01 Smbd&quot\;\; vertical-align: baseline\;">Come join us to learn about:</span><br style="box-sizing: border-box\;" />\n&bull\; Labor law update<br style="box-sizing: border-box\;" />\n&bull\; OSHA&rsquo\;s Emergency Temporary Standard<br style="box-sizing: border-box\;" />\n&bull\; Minimum wage increases<br style="box-sizing: border-box\;" />\n&bull\; New &amp\; remaining Covid-19 Supplemental Paid Sick Leave<br style="box-sizing: border-box\;" />\n&bull\; Upcoming compliance requirements</p>\n\n<p style="box-sizing: border-box\; margin: 0px 0px 10px\; padding: 0px\; border: 0px\; font-variant-numeric: inherit\; font-variant-east-asian: inherit\; font-stretch: inherit\; line-height: 1.7\; font-family: &quot\;Proxima N W01 Light&quot\;\, Helvetica\, Arial\, sans-serif\; font-size: 18px\; vertical-align: baseline\; color: rgb(49\, 49\, 49)\;"><span style="box-sizing: border-box\; margin: 0px\; padding: 0px\; border: 0px\; font-style: inherit\; font-variant: inherit\; font-weight: inherit\; font-stretch: inherit\; line-height: inherit\; font-family: &quot\;Proxima N W01 Smbd&quot\;\; vertical-align: baseline\;">Followed by Q&amp\;A</span></p>\n
LOCATION:VIRTUAL - REGISTER HERE
UID:e.2438.5322
SEQUENCE:3
DTSTAMP:20260421T110013Z
URL:https://business.hbchamber.net/events/details/sbdc-la-staying-risk-free-new-applicable-employment-laws-for-small-businesses-5322
END:VEVENT

END:VCALENDAR
