BEGIN:VCALENDAR
VERSION:2.0
PRODID:-//ChamberMaster//Event Calendar 2.0//EN
METHOD:PUBLISH
X-PUBLISHED-TTL:P3D
REFRESH-INTERVAL:P3D
CALSCALE:GREGORIAN
BEGIN:VEVENT
DTSTART:20220316T180000Z
DTEND:20220316T190000Z
X-MICROSOFT-CDO-ALLDAYEVENT:FALSE
SUMMARY:SBDC LA: Special Event: The 5 C’s of Credit “Why You Need To Know Them To Secure A Business Loan
DESCRIPTION:Special Event: The 5 C's of Credit "Why You Need To Know Them To Secure A Business Loan with CitiBank\n\nDo you know the 5 C's of credit? Have you ever been denied for funding because of a credit issue? Maybe you are not sure what you need to qualify for a business loan. This webinar will help you discover what lenders see and further prepare you to take the next steps in your business. Don't leave any information on the table and join us today. Find out why and what credit problem will need to fixed before applying for your next loan.
X-ALT-DESC;FMTTYPE=text/html:<p style="box-sizing: border-box\; margin: 0px 0px 10px\; padding: 0px\; border: 0px\; font-variant-numeric: inherit\; font-variant-east-asian: inherit\; font-stretch: inherit\; line-height: 1.7\; font-family: &quot\;Proxima N W01 Light&quot\;\, Helvetica\, Arial\, sans-serif\; font-size: 18px\; vertical-align: baseline\; color: rgb(49\, 49\, 49)\;"><span class="JsGRdQ" style="box-sizing: border-box\; margin: 0px\; padding: 0px\; border: 0px\; font-style: inherit\; font-variant: inherit\; font-weight: inherit\; font-stretch: inherit\; line-height: inherit\; font-family: inherit\; vertical-align: baseline\;">Special Event: The 5 C&rsquo\;s of Credit &ldquo\;Why You Need To Know Them To Secure A Business Loan with CitiBank</span></p>\n\n<p style="box-sizing: border-box\; margin: 0px 0px 10px\; padding: 0px\; border: 0px\; font-variant-numeric: inherit\; font-variant-east-asian: inherit\; font-stretch: inherit\; line-height: 1.7\; font-family: &quot\;Proxima N W01 Light&quot\;\, Helvetica\, Arial\, sans-serif\; font-size: 18px\; vertical-align: baseline\; color: rgb(49\, 49\, 49)\;"><span class="JsGRdQ" style="box-sizing: border-box\; margin: 0px\; padding: 0px\; border: 0px\; font-style: inherit\; font-variant: inherit\; font-weight: inherit\; font-stretch: inherit\; line-height: inherit\; font-family: inherit\; vertical-align: baseline\;">Do you know the 5 C&rsquo\;s of credit? Have you ever been denied for funding because of a credit issue? Maybe you are not sure what you need to qualify for a business loan. This webinar will help you discover what lenders see and further prepare you to take the next steps in your business. Don&rsquo\;t leave any information on the table and join us today. Find out why and what credit problem will need to fixed before applying for your next loan.</span></p>\n
LOCATION:VIRTUAL - REGISTER HERE
UID:e.2438.5316
SEQUENCE:3
DTSTAMP:20260421T110149Z
URL:https://business.hbchamber.net/events/details/sbdc-la-special-event-the-5-c-s-of-credit-why-you-need-to-know-them-to-secure-a-business-loan-5316
END:VEVENT

END:VCALENDAR
