BEGIN:VCALENDAR
VERSION:2.0
PRODID:-//ChamberMaster//Event Calendar 2.0//EN
METHOD:PUBLISH
X-PUBLISHED-TTL:P3D
REFRESH-INTERVAL:P3D
CALSCALE:GREGORIAN
BEGIN:VEVENT
DTSTART:20220324T200000Z
DTEND:20220324T213000Z
X-MICROSOFT-CDO-ALLDAYEVENT:FALSE
SUMMARY:SBDC LA: Social Media Marketing Trends for 2022
DESCRIPTION:Social Media is constantly changing and as a busy small business owner\, it is hard to keep up with Instagram Reels\, TikTok\, YouTube Shorts\, and now audio rooms. Should I podcast? Should I start a YouTube channel?\n\n\nNot to worry! Our in-house Social Media Goddess\, Deborah Deras\, attended the Social Media Examiner conference and has updates for you about where you should spend your time to get a return on investment.\n\nShe will share in this interactive dialogue:\n\n  What ORGANIC social media should you focus on\n\n  TikTok\, do you need it or is it just a fad\n\n  If you are going to do Ads\, what works and what doesn't\n\n  The importance of lead generation and how to use it effectively\n\n  Plus all the trends of 2022 from the Social Media Examiner Conference\n\n  Plus much more in our Q&A sessions
X-ALT-DESC;FMTTYPE=text/html:<div style="box-sizing: border-box\; margin: 0px\; padding: 0px\; border: 0px\; font-variant-numeric: inherit\; font-variant-east-asian: inherit\; font-stretch: inherit\; line-height: inherit\; font-family: &quot\;Proxima N W01 Light&quot\;\, Helvetica\, Arial\, sans-serif\; font-size: 18px\; vertical-align: baseline\; color: rgb(49\, 49\, 49)\;">Social Media is constantly changing and as a busy small business owner\, it is hard to keep up with Instagram Reels\, TikTok\, YouTube Shorts\, and now audio rooms. Should I podcast? Should I start a YouTube channel?</div>\n\n<div style="box-sizing: border-box\; margin: 0px\; padding: 0px\; border: 0px\; font-variant-numeric: inherit\; font-variant-east-asian: inherit\; font-stretch: inherit\; line-height: inherit\; font-family: &quot\;Proxima N W01 Light&quot\;\, Helvetica\, Arial\, sans-serif\; font-size: 18px\; vertical-align: baseline\; color: rgb(49\, 49\, 49)\;">\n<p dir="ltr" style="box-sizing: border-box\; margin: 0px 0px 10px\; padding: 0px\; border: 0px\; font-style: inherit\; font-variant: inherit\; font-weight: inherit\; font-stretch: inherit\; line-height: 1.7\; font-family: inherit\; vertical-align: baseline\;">Not to worry! Our in-house Social Media Goddess\, Deborah Deras\, attended the Social Media Examiner conference and has updates for you about where you should spend your time to get a return on investment.</p>\n\n<p style="box-sizing: border-box\; margin: 0px 0px 10px\; padding: 0px\; border: 0px\; font-style: inherit\; font-variant: inherit\; font-weight: inherit\; font-stretch: inherit\; line-height: 1.7\; font-family: inherit\; vertical-align: baseline\;"><span style="box-sizing: border-box\; margin: 0px\; padding: 0px\; border: 0px\; font-style: inherit\; font-variant: inherit\; font-weight: inherit\; font-stretch: inherit\; line-height: inherit\; font-family: &quot\;Proxima N W01 Smbd&quot\;\; vertical-align: baseline\;">She will share in this interactive dialogue:</span><br style="box-sizing: border-box\;" />\n&bull\; What ORGANIC social media should you focus on<br style="box-sizing: border-box\;" />\n&bull\; TikTok\, do you need it or is it just a fad<br style="box-sizing: border-box\;" />\n&bull\; If you are going to do Ads\, what works and what doesn&rsquo\;t<br style="box-sizing: border-box\;" />\n&bull\; The importance of lead generation and how to use it effectively<br style="box-sizing: border-box\;" />\n&bull\; Plus all the trends of 2022 from the Social Media Examiner Conference<br style="box-sizing: border-box\;" />\n&bull\; Plus much more in our Q&amp\;A sessions&gt\;</p>\n</div>\n
LOCATION:VIRTUAL - REGISTER HERE
UID:e.2438.5325
SEQUENCE:3
DTSTAMP:20260421T105937Z
URL:https://business.hbchamber.net/events/details/sbdc-la-social-media-marketing-trends-for-2022-5325
END:VEVENT

END:VCALENDAR
