BEGIN:VCALENDAR
VERSION:2.0
PRODID:-//ChamberMaster//Event Calendar 2.0//EN
METHOD:PUBLISH
X-PUBLISHED-TTL:P3D
REFRESH-INTERVAL:P3D
CALSCALE:GREGORIAN
BEGIN:VEVENT
DTSTART:20220210T220000Z
DTEND:20220210T233000Z
X-MICROSOFT-CDO-ALLDAYEVENT:FALSE
SUMMARY:SBDC LA: Social Media For Sales
DESCRIPTION:So many business owners I talk to hate Social Media because they don't like using Social Media for personal use or for fun and don't know the strategy behind Social Media for Sales. I wrote an ebook with 5 steps to go from likes to sales and since expanded it to a 7 step system that will help you shift from hating Social Media to Loving it.\n\n\n \n\n \n\nDuring this interactive Webinar you will discover:\n\n\n\n  Who are the main players in the Social Media Game and how to set yourself up to win\n\n  Why are SEO and hashtags so important in Social Media\n\n  How to clarify your message so your target market responds to you with a purchase\n\n  How to be creative to stop the scroll\n\n  How to use Collabs to grow your following faster\n\n  How to create a Community so your followers become loyal customers and brand ambassadors\n\n  The SECRET to Social Media success that will cost you zero dollars\n\n  How to measure your success\n\nOnce you get the sale how to create brand loyalty\n\nPlus much more in our Q&A sessions\n\n \n\nPresented by: Deborah Deras\n\n \n\n*The WEBINAR will be conducted via ZOOM. Instructions to connect via ZOOM will be sent out to all registrants the day before the webinar.
X-ALT-DESC;FMTTYPE=text/html:<div class="tribe-events-single-event-description tribe-events-content" style="box-sizing: border-box\; margin: 0px\; padding: 0px\; border: 0px\; font-variant-numeric: inherit\; font-variant-east-asian: inherit\; font-stretch: inherit\; line-height: inherit\; font-family: &quot\;Proxima N W01 Light&quot\;\, Helvetica\, Arial\, sans-serif\; font-size: 18px\; vertical-align: baseline\; max-width: 100%\; width: 1128px\; color: rgb(49\, 49\, 49)\;">\n<p style="box-sizing: border-box\; margin: 0px 0px 10px\; padding: 0px\; border: 0px\; font-style: inherit\; font-variant: inherit\; font-weight: inherit\; font-stretch: inherit\; line-height: 1.7\; font-family: inherit\; vertical-align: baseline\;">So many business owners I talk to hate Social Media because they don&rsquo\;t like using Social Media for personal use or for fun and don&rsquo\;t know the strategy behind Social Media for Sales. I wrote an ebook with 5 steps to go from likes to sales and since expanded it to a 7 step system that will help you shift from hating Social Media to Loving it.</p>\n</div>\n\n<div style="box-sizing: border-box\; margin: 0px\; padding: 0px\; border: 0px\; font-variant-numeric: inherit\; font-variant-east-asian: inherit\; font-stretch: inherit\; line-height: inherit\; font-family: &quot\;Proxima N W01 Light&quot\;\, Helvetica\, Arial\, sans-serif\; font-size: 18px\; vertical-align: baseline\; color: rgb(49\, 49\, 49)\;">&nbsp\;</div>\n\n<p style="box-sizing: border-box\; margin: 0px 0px 20px\; padding: 0px\; border: 0px\; font-variant-numeric: inherit\; font-variant-east-asian: inherit\; font-stretch: inherit\; line-height: inherit\; font-family: &quot\;Proxima N W01 Light&quot\;\, Helvetica\, Arial\, sans-serif\; font-size: 18px\; vertical-align: baseline\; color: rgb(49\, 49\, 49)\;">&nbsp\;</p>\n\n<div style="box-sizing: border-box\; margin: 0px\; padding: 0px\; border: 0px\; font-style: inherit\; font-variant: inherit\; font-weight: inherit\; font-stretch: inherit\; line-height: inherit\; font-family: inherit\; vertical-align: baseline\;"><span style="box-sizing: border-box\; margin: 0px\; padding: 0px\; border: 0px\; font-variant-numeric: inherit\; font-variant-east-asian: inherit\; font-weight: inherit\; font-stretch: inherit\; line-height: inherit\; font-family: &quot\;Proxima N W01 Smbd&quot\;\; font-size: 18px\; vertical-align: baseline\; color: rgb(49\, 49\, 49)\;">During this interactive Webinar you will discover:</span></div>\n\n<p style="box-sizing: border-box\; margin: 0px 0px 20px\; padding: 0px\; border: 0px\; font-variant-numeric: inherit\; font-variant-east-asian: inherit\; font-stretch: inherit\; line-height: inherit\; font-family: &quot\;Proxima N W01 Light&quot\;\, Helvetica\, Arial\, sans-serif\; font-size: 18px\; vertical-align: baseline\; color: rgb(49\, 49\, 49)\;"><br style="box-sizing: border-box\;" />\n&bull\; Who are the main players in the Social Media Game and how to set yourself up to win<br style="box-sizing: border-box\;" />\n&bull\; Why are SEO and hashtags so important in Social Media<br style="box-sizing: border-box\;" />\n&bull\; How to clarify your message so your target market responds to you with a purchase<br style="box-sizing: border-box\;" />\n&bull\; How to be creative to stop the scroll<br style="box-sizing: border-box\;" />\n&bull\; How to use Collabs to grow your following faster<br style="box-sizing: border-box\;" />\n&bull\; How to create a Community so your followers become loyal customers and brand ambassadors<br style="box-sizing: border-box\;" />\n&bull\; The SECRET to Social Media success that will cost you zero dollars<br style="box-sizing: border-box\;" />\n&bull\; How to measure your success</p>\n\n<p style="box-sizing: border-box\; margin: 0px 0px 20px\; padding: 0px\; border: 0px\; font-variant-numeric: inherit\; font-variant-east-asian: inherit\; font-stretch: inherit\; line-height: inherit\; font-family: &quot\;Proxima N W01 Light&quot\;\, Helvetica\, Arial\, sans-serif\; font-size: 18px\; vertical-align: baseline\; color: rgb(49\, 49\, 49)\;">Once you get the sale how to create brand loyalty</p>\n\n<div style="box-sizing: border-box\; margin: 0px\; padding: 0px\; border: 0px\; font-variant-numeric: inherit\; font-variant-east-asian: inherit\; font-stretch: inherit\; line-height: inherit\; font-family: &quot\;Proxima N W01 Light&quot\;\, Helvetica\, Arial\, sans-serif\; font-size: 18px\; vertical-align: baseline\; color: rgb(49\, 49\, 49)\;">Plus much more in our Q&amp\;A sessions</div>\n\n<div style="box-sizing: border-box\; margin: 0px\; padding: 0px\; border: 0px\; font-variant-numeric: inherit\; font-variant-east-asian: inherit\; font-stretch: inherit\; line-height: inherit\; font-family: &quot\;Proxima N W01 Light&quot\;\, Helvetica\, Arial\, sans-serif\; font-size: 18px\; vertical-align: baseline\; color: rgb(49\, 49\, 49)\;">&nbsp\;</div>\n\n<div style="box-sizing: border-box\; margin: 0px\; padding: 0px\; border: 0px\; font-variant-numeric: inherit\; font-variant-east-asian: inherit\; font-stretch: inherit\; line-height: inherit\; font-family: &quot\;Proxima N W01 Light&quot\;\, Helvetica\, Arial\, sans-serif\; font-size: 18px\; vertical-align: baseline\; color: rgb(49\, 49\, 49)\;">Presented by: Deborah Deras</div>\n\n<div style="box-sizing: border-box\; margin: 0px\; padding: 0px\; border: 0px\; font-variant-numeric: inherit\; font-variant-east-asian: inherit\; font-stretch: inherit\; line-height: inherit\; font-family: &quot\;Proxima N W01 Light&quot\;\, Helvetica\, Arial\, sans-serif\; font-size: 18px\; vertical-align: baseline\; color: rgb(49\, 49\, 49)\;">&nbsp\;</div>\n\n<div style="box-sizing: border-box\; margin: 0px\; padding: 0px\; border: 0px\; font-variant-numeric: inherit\; font-variant-east-asian: inherit\; font-stretch: inherit\; line-height: inherit\; font-family: &quot\;Proxima N W01 Light&quot\;\, Helvetica\, Arial\, sans-serif\; font-size: 18px\; vertical-align: baseline\; color: rgb(49\, 49\, 49)\;">*The WEBINAR will be conducted via ZOOM. Instructions to connect via ZOOM will be sent out to all registrants the day before the webinar.</div>\n
LOCATION:VIRTUAL - REGISTER HERE
UID:e.2438.5143
SEQUENCE:3
DTSTAMP:20260421T133221Z
URL:https://business.hbchamber.net/events/details/sbdc-la-social-media-for-sales-5143
END:VEVENT

END:VCALENDAR
