BEGIN:VCALENDAR
VERSION:2.0
PRODID:-//ChamberMaster//Event Calendar 2.0//EN
METHOD:PUBLISH
X-PUBLISHED-TTL:P3D
REFRESH-INTERVAL:P3D
CALSCALE:GREGORIAN
BEGIN:VEVENT
DTSTART:20220318T180000Z
DTEND:20220318T190000Z
X-MICROSOFT-CDO-ALLDAYEVENT:FALSE
SUMMARY:SBDC LA: Live Q&A: All About Marketing Your Small Business
DESCRIPTION:Join the Long Beach SBDC for our Live Marketing Q&A addressing questions on how to effectively market and grow your business. SBDC advisor and Business Growth Strategist David Mitroff Ph.D. and Brad Pollak\, Director of the Long Beach SBDC\, will interact live with the audience via Zoom and answer questions covering a broad range of marketing topics including cutting edge marketing ideas\, business development strategies\, how to leverage online platforms to grow your brand\, mind-set and professional growth\, ways to develop strategic partnerships\, event marketing\, business operations\, recruiting\, franchising\, the meaning of life and more.
X-ALT-DESC;FMTTYPE=text/html:<p style="box-sizing: border-box\; margin: 0px 0px 10px\; padding: 0px\; border: 0px\; font-variant-numeric: inherit\; font-variant-east-asian: inherit\; font-stretch: inherit\; line-height: 1.7\; font-family: &quot\;Proxima N W01 Light&quot\;\, Helvetica\, Arial\, sans-serif\; font-size: 18px\; vertical-align: baseline\; color: rgb(49\, 49\, 49)\;"><span style="color: rgb(49\, 49\, 49)\; font-family: &quot\;Proxima N W01 Light&quot\;\, Helvetica\, Arial\, sans-serif\; font-size: 18px\;">Join the Long Beach SBDC for our Live Marketing Q&amp\;A addressing questions on how to effectively market and grow your business. SBDC advisor and Business Growth Strategist David Mitroff Ph.D. and Brad Pollak\, Director of the Long Beach SBDC\, will interact live with the audience via Zoom and answer questions covering a broad range of marketing topics including cutting edge marketing ideas\, business development strategies\, how to leverage online platforms to grow your brand\, mind-set and professional growth\, ways to develop strategic partnerships\, event marketing\, business operations\, recruiting\, franchising\, the meaning of life and more.</span></p>\n
LOCATION:VIRTUAL - REGISTER HERE
UID:e.2438.5318
SEQUENCE:3
DTSTAMP:20260421T105936Z
URL:https://business.hbchamber.net/events/details/sbdc-la-live-q-a-all-about-marketing-your-small-business-5318
END:VEVENT

END:VCALENDAR
