BEGIN:VCALENDAR
VERSION:2.0
PRODID:-//ChamberMaster//Event Calendar 2.0//EN
METHOD:PUBLISH
X-PUBLISHED-TTL:P3D
REFRESH-INTERVAL:P3D
CALSCALE:GREGORIAN
BEGIN:VEVENT
DTSTART:20220217T180000Z
DTEND:20220217T193000Z
X-MICROSOFT-CDO-ALLDAYEVENT:FALSE
SUMMARY:SBDC LA: Licenses and Permits
DESCRIPTION:In this webinar\, we will cover:\n\n  The 5 major licenses and permits needed by most businesses\n\n  Specialty licenses used many major industries\n\n  How University of La Verne SBDC helps small businesses with license and permit obligations\n\n  Answer your questions concerning licensing and permits live.
X-ALT-DESC;FMTTYPE=text/html:<p style="box-sizing: border-box\; margin: 0px 0px 10px\; padding: 0px\; border: 0px\; font-variant-numeric: inherit\; font-variant-east-asian: inherit\; font-stretch: inherit\; line-height: 1.7\; font-family: &quot\;Proxima N W01 Light&quot\;\, Helvetica\, Arial\, sans-serif\; font-size: 18px\; vertical-align: baseline\; color: rgb(49\, 49\, 49)\;">In this webinar\, we will cover:</p>\n\n<p style="box-sizing: border-box\; margin: 0px 0px 10px\; padding: 0px\; border: 0px\; font-variant-numeric: inherit\; font-variant-east-asian: inherit\; font-stretch: inherit\; line-height: 1.7\; font-family: &quot\;Proxima N W01 Light&quot\;\, Helvetica\, Arial\, sans-serif\; font-size: 18px\; vertical-align: baseline\; color: rgb(49\, 49\, 49)\;">&bull\; The 5 major licenses and permits needed by most businesses<br style="box-sizing: border-box\;" />\n&bull\; Specialty licenses used many major industries<br style="box-sizing: border-box\;" />\n&bull\; How University of La Verne SBDC helps small businesses with license and permit obligations<br style="box-sizing: border-box\;" />\n&bull\; Answer your questions concerning licensing and permits live.</p>\n
LOCATION:VIRTUAL - REGISTER HERE
UID:e.2438.5146
SEQUENCE:3
DTSTAMP:20260421T131402Z
URL:https://business.hbchamber.net/events/details/sbdc-la-licenses-and-permits-5146
END:VEVENT

END:VCALENDAR
