BEGIN:VCALENDAR
VERSION:2.0
PRODID:-//ChamberMaster//Event Calendar 2.0//EN
METHOD:PUBLISH
X-PUBLISHED-TTL:P3D
REFRESH-INTERVAL:P3D
CALSCALE:GREGORIAN
BEGIN:VEVENT
DTSTART:20220216T180000Z
DTEND:20220216T200000Z
X-MICROSOFT-CDO-ALLDAYEVENT:FALSE
SUMMARY:SBDC LA: How To Create Your Social Media Content Calendar for 2022
DESCRIPTION:Do you struggle to come up with relevant content worth posting? Do you want to go from "likes" to sales online? The first thing is to develop a strategy that is going to attract your ideal client. Having a solid content calendar will take away the stress of what to post and when to post and how to get sales from your post.\n\nDuring this webinar you will discover:\n\n  The 5 steps to create content that sells\n\n  How to become aware of seasonal opportunities\, holidays\, and other events that will result in sales\n\n  How to organize your content in a scheduler so it is easy to post\n\n  How to curate the content you already have and be able to post it strategically\n\n  How to create an irresistible offer that leads to more sales
X-ALT-DESC;FMTTYPE=text/html:<p style="box-sizing: border-box\; margin: 0px 0px 10px\; padding: 0px\; border: 0px\; font-variant-numeric: inherit\; font-variant-east-asian: inherit\; font-stretch: inherit\; line-height: 1.7\; font-family: &quot\;Proxima N W01 Light&quot\;\, Helvetica\, Arial\, sans-serif\; font-size: 18px\; vertical-align: baseline\; color: rgb(49\, 49\, 49)\;">Do you struggle to come up with relevant content worth posting? Do you want to go from &ldquo\;likes&rdquo\; to sales online?&nbsp\;The first thing is to develop a strategy that is going to attract your ideal client.&nbsp\;Having a solid content calendar will take away the stress of what to post and when to post and how to get sales from your post.</p>\n\n<p style="box-sizing: border-box\; margin: 0px 0px 10px\; padding: 0px\; border: 0px\; font-variant-numeric: inherit\; font-variant-east-asian: inherit\; font-stretch: inherit\; line-height: 1.7\; font-family: &quot\;Proxima N W01 Light&quot\;\, Helvetica\, Arial\, sans-serif\; font-size: 18px\; vertical-align: baseline\; color: rgb(49\, 49\, 49)\;"><span style="box-sizing: border-box\; margin: 0px\; padding: 0px\; border: 0px\; font-style: inherit\; font-variant: inherit\; font-weight: inherit\; font-stretch: inherit\; line-height: inherit\; font-family: &quot\;Proxima N W01 Smbd&quot\;\; vertical-align: baseline\;">During this webinar you will discover:</span><br style="box-sizing: border-box\;" />\n&bull\; The 5 steps to create content that sells<br style="box-sizing: border-box\;" />\n&bull\; How to become aware of seasonal opportunities\, holidays\, and other events that will result in sales<br style="box-sizing: border-box\;" />\n&bull\; How to organize your content in a scheduler so it is easy to post<br style="box-sizing: border-box\;" />\n&bull\; How to curate the content you already have and be able to post it strategically<br style="box-sizing: border-box\;" />\n&bull\; How to create an irresistible offer that leads to more sales</p>\n
LOCATION:VIRTUAL - REGISTER HERE
UID:e.2438.5148
SEQUENCE:3
DTSTAMP:20260421T134251Z
URL:https://business.hbchamber.net/events/details/sbdc-la-how-to-create-your-social-media-content-calendar-for-2022-5148
END:VEVENT

END:VCALENDAR
